BEGIN:VCALENDAR
VERSION:2.0
PRODID:-//Centre Islamique Badr - ECPv6.8.2.1//NONSGML v1.0//EN
CALSCALE:GREGORIAN
METHOD:PUBLISH
X-WR-CALNAME:Centre Islamique Badr
X-ORIGINAL-URL:https://centrebadr.net/ar
X-WR-CALDESC:Events for Centre Islamique Badr
REFRESH-INTERVAL;VALUE=DURATION:PT1H
X-Robots-Tag:noindex
X-PUBLISHED-TTL:PT1H
BEGIN:VTIMEZONE
TZID:America/Toronto
BEGIN:DAYLIGHT
TZOFFSETFROM:-0500
TZOFFSETTO:-0400
TZNAME:EDT
DTSTART:20260308T070000
END:DAYLIGHT
BEGIN:STANDARD
TZOFFSETFROM:-0400
TZOFFSETTO:-0500
TZNAME:EST
DTSTART:20261101T060000
END:STANDARD
END:VTIMEZONE
BEGIN:VEVENT
DTSTART;TZID=America/Toronto:20260422T200000
DTEND;TZID=America/Toronto:20260422T213000
DTSTAMP:20260419T173044
CREATED:20251020T025413Z
LAST-MODIFIED:20251020T025536Z
UID:10006716-1776888000-1776893400@centrebadr.net
SUMMARY:Série de Concepts Juridiques Islamiques
DESCRIPTION:📖 Série de cours : « Notions islamiques fondamentales »\navec le Cheikh Dr Abdelbasset Ben Issa 🌸 \n🕋 Chaque mercredi après la prière du ʿIchâʾ \nDes cours enrichissants pour corriger les notions religieuses et approfondir la compréhension de notre foi.\nUne occasion précieuse de se nourrir de savoir et de spiritualité. 🌿 \n﴾ وَقُل رَّبِّ زِدْنِي عِلْمًا ﴿\n 
URL:https://centrebadr.net/ar/event/serie-de-concepts-juridiques-islamiques-2/2026-04-22/
LOCATION:Mosquée Badr\, 8625 Boulevard Langelier\, Saint-Léonard\, QC\, H1P 2C6\, Canada
CATEGORIES:eventsList
ORGANIZER;CN="Centre Islamique Badr":MAILTO:info@centrebadr.net
END:VEVENT
BEGIN:VEVENT
DTSTART;TZID=America/Toronto:20260429T200000
DTEND;TZID=America/Toronto:20260429T213000
DTSTAMP:20260419T173044
CREATED:20251020T025413Z
LAST-MODIFIED:20251020T025536Z
UID:10006717-1777492800-1777498200@centrebadr.net
SUMMARY:Série de Concepts Juridiques Islamiques
DESCRIPTION:📖 Série de cours : « Notions islamiques fondamentales »\navec le Cheikh Dr Abdelbasset Ben Issa 🌸 \n🕋 Chaque mercredi après la prière du ʿIchâʾ \nDes cours enrichissants pour corriger les notions religieuses et approfondir la compréhension de notre foi.\nUne occasion précieuse de se nourrir de savoir et de spiritualité. 🌿 \n﴾ وَقُل رَّبِّ زِدْنِي عِلْمًا ﴿\n 
URL:https://centrebadr.net/ar/event/serie-de-concepts-juridiques-islamiques-2/2026-04-29/
LOCATION:Mosquée Badr\, 8625 Boulevard Langelier\, Saint-Léonard\, QC\, H1P 2C6\, Canada
CATEGORIES:eventsList
ORGANIZER;CN="Centre Islamique Badr":MAILTO:info@centrebadr.net
END:VEVENT
BEGIN:VEVENT
DTSTART;TZID=America/Toronto:20260506T200000
DTEND;TZID=America/Toronto:20260506T213000
DTSTAMP:20260419T173044
CREATED:20251020T025413Z
LAST-MODIFIED:20251020T025536Z
UID:10006718-1778097600-1778103000@centrebadr.net
SUMMARY:Série de Concepts Juridiques Islamiques
DESCRIPTION:📖 Série de cours : « Notions islamiques fondamentales »\navec le Cheikh Dr Abdelbasset Ben Issa 🌸 \n🕋 Chaque mercredi après la prière du ʿIchâʾ \nDes cours enrichissants pour corriger les notions religieuses et approfondir la compréhension de notre foi.\nUne occasion précieuse de se nourrir de savoir et de spiritualité. 🌿 \n﴾ وَقُل رَّبِّ زِدْنِي عِلْمًا ﴿\n 
URL:https://centrebadr.net/ar/event/serie-de-concepts-juridiques-islamiques-2/2026-05-06/
LOCATION:Mosquée Badr\, 8625 Boulevard Langelier\, Saint-Léonard\, QC\, H1P 2C6\, Canada
CATEGORIES:eventsList
ORGANIZER;CN="Centre Islamique Badr":MAILTO:info@centrebadr.net
END:VEVENT
BEGIN:VEVENT
DTSTART;TZID=America/Toronto:20260513T200000
DTEND;TZID=America/Toronto:20260513T213000
DTSTAMP:20260419T173044
CREATED:20251020T025413Z
LAST-MODIFIED:20251020T025536Z
UID:10006719-1778702400-1778707800@centrebadr.net
SUMMARY:Série de Concepts Juridiques Islamiques
DESCRIPTION:📖 Série de cours : « Notions islamiques fondamentales »\navec le Cheikh Dr Abdelbasset Ben Issa 🌸 \n🕋 Chaque mercredi après la prière du ʿIchâʾ \nDes cours enrichissants pour corriger les notions religieuses et approfondir la compréhension de notre foi.\nUne occasion précieuse de se nourrir de savoir et de spiritualité. 🌿 \n﴾ وَقُل رَّبِّ زِدْنِي عِلْمًا ﴿\n 
URL:https://centrebadr.net/ar/event/serie-de-concepts-juridiques-islamiques-2/2026-05-13/
LOCATION:Mosquée Badr\, 8625 Boulevard Langelier\, Saint-Léonard\, QC\, H1P 2C6\, Canada
CATEGORIES:eventsList
ORGANIZER;CN="Centre Islamique Badr":MAILTO:info@centrebadr.net
END:VEVENT
BEGIN:VEVENT
DTSTART;TZID=America/Toronto:20260520T200000
DTEND;TZID=America/Toronto:20260520T213000
DTSTAMP:20260419T173044
CREATED:20251020T025413Z
LAST-MODIFIED:20251020T025536Z
UID:10006720-1779307200-1779312600@centrebadr.net
SUMMARY:Série de Concepts Juridiques Islamiques
DESCRIPTION:📖 Série de cours : « Notions islamiques fondamentales »\navec le Cheikh Dr Abdelbasset Ben Issa 🌸 \n🕋 Chaque mercredi après la prière du ʿIchâʾ \nDes cours enrichissants pour corriger les notions religieuses et approfondir la compréhension de notre foi.\nUne occasion précieuse de se nourrir de savoir et de spiritualité. 🌿 \n﴾ وَقُل رَّبِّ زِدْنِي عِلْمًا ﴿\n 
URL:https://centrebadr.net/ar/event/serie-de-concepts-juridiques-islamiques-2/2026-05-20/
LOCATION:Mosquée Badr\, 8625 Boulevard Langelier\, Saint-Léonard\, QC\, H1P 2C6\, Canada
CATEGORIES:eventsList
ORGANIZER;CN="Centre Islamique Badr":MAILTO:info@centrebadr.net
END:VEVENT
BEGIN:VEVENT
DTSTART;TZID=America/Toronto:20260527T200000
DTEND;TZID=America/Toronto:20260527T213000
DTSTAMP:20260419T173044
CREATED:20251020T025413Z
LAST-MODIFIED:20251020T025536Z
UID:10006721-1779912000-1779917400@centrebadr.net
SUMMARY:Série de Concepts Juridiques Islamiques
DESCRIPTION:📖 Série de cours : « Notions islamiques fondamentales »\navec le Cheikh Dr Abdelbasset Ben Issa 🌸 \n🕋 Chaque mercredi après la prière du ʿIchâʾ \nDes cours enrichissants pour corriger les notions religieuses et approfondir la compréhension de notre foi.\nUne occasion précieuse de se nourrir de savoir et de spiritualité. 🌿 \n﴾ وَقُل رَّبِّ زِدْنِي عِلْمًا ﴿\n 
URL:https://centrebadr.net/ar/event/serie-de-concepts-juridiques-islamiques-2/2026-05-27/
LOCATION:Mosquée Badr\, 8625 Boulevard Langelier\, Saint-Léonard\, QC\, H1P 2C6\, Canada
CATEGORIES:eventsList
ORGANIZER;CN="Centre Islamique Badr":MAILTO:info@centrebadr.net
END:VEVENT
BEGIN:VEVENT
DTSTART;TZID=America/Toronto:20260603T200000
DTEND;TZID=America/Toronto:20260603T213000
DTSTAMP:20260419T173044
CREATED:20251020T025413Z
LAST-MODIFIED:20251020T025536Z
UID:10006722-1780516800-1780522200@centrebadr.net
SUMMARY:Série de Concepts Juridiques Islamiques
DESCRIPTION:📖 Série de cours : « Notions islamiques fondamentales »\navec le Cheikh Dr Abdelbasset Ben Issa 🌸 \n🕋 Chaque mercredi après la prière du ʿIchâʾ \nDes cours enrichissants pour corriger les notions religieuses et approfondir la compréhension de notre foi.\nUne occasion précieuse de se nourrir de savoir et de spiritualité. 🌿 \n﴾ وَقُل رَّبِّ زِدْنِي عِلْمًا ﴿\n 
URL:https://centrebadr.net/ar/event/serie-de-concepts-juridiques-islamiques-2/2026-06-03/
LOCATION:Mosquée Badr\, 8625 Boulevard Langelier\, Saint-Léonard\, QC\, H1P 2C6\, Canada
CATEGORIES:eventsList
ORGANIZER;CN="Centre Islamique Badr":MAILTO:info@centrebadr.net
END:VEVENT
BEGIN:VEVENT
DTSTART;TZID=America/Toronto:20260610T200000
DTEND;TZID=America/Toronto:20260610T213000
DTSTAMP:20260419T173044
CREATED:20251020T025413Z
LAST-MODIFIED:20251020T025536Z
UID:10006723-1781121600-1781127000@centrebadr.net
SUMMARY:Série de Concepts Juridiques Islamiques
DESCRIPTION:📖 Série de cours : « Notions islamiques fondamentales »\navec le Cheikh Dr Abdelbasset Ben Issa 🌸 \n🕋 Chaque mercredi après la prière du ʿIchâʾ \nDes cours enrichissants pour corriger les notions religieuses et approfondir la compréhension de notre foi.\nUne occasion précieuse de se nourrir de savoir et de spiritualité. 🌿 \n﴾ وَقُل رَّبِّ زِدْنِي عِلْمًا ﴿\n 
URL:https://centrebadr.net/ar/event/serie-de-concepts-juridiques-islamiques-2/2026-06-10/
LOCATION:Mosquée Badr\, 8625 Boulevard Langelier\, Saint-Léonard\, QC\, H1P 2C6\, Canada
CATEGORIES:eventsList
ORGANIZER;CN="Centre Islamique Badr":MAILTO:info@centrebadr.net
END:VEVENT
BEGIN:VEVENT
DTSTART;TZID=America/Toronto:20260617T200000
DTEND;TZID=America/Toronto:20260617T213000
DTSTAMP:20260419T173044
CREATED:20251020T025413Z
LAST-MODIFIED:20251020T025536Z
UID:10006724-1781726400-1781731800@centrebadr.net
SUMMARY:Série de Concepts Juridiques Islamiques
DESCRIPTION:📖 Série de cours : « Notions islamiques fondamentales »\navec le Cheikh Dr Abdelbasset Ben Issa 🌸 \n🕋 Chaque mercredi après la prière du ʿIchâʾ \nDes cours enrichissants pour corriger les notions religieuses et approfondir la compréhension de notre foi.\nUne occasion précieuse de se nourrir de savoir et de spiritualité. 🌿 \n﴾ وَقُل رَّبِّ زِدْنِي عِلْمًا ﴿\n 
URL:https://centrebadr.net/ar/event/serie-de-concepts-juridiques-islamiques-2/2026-06-17/
LOCATION:Mosquée Badr\, 8625 Boulevard Langelier\, Saint-Léonard\, QC\, H1P 2C6\, Canada
CATEGORIES:eventsList
ORGANIZER;CN="Centre Islamique Badr":MAILTO:info@centrebadr.net
END:VEVENT
BEGIN:VEVENT
DTSTART;TZID=America/Toronto:20260624T200000
DTEND;TZID=America/Toronto:20260624T213000
DTSTAMP:20260419T173044
CREATED:20251020T025413Z
LAST-MODIFIED:20251020T025536Z
UID:10006725-1782331200-1782336600@centrebadr.net
SUMMARY:Série de Concepts Juridiques Islamiques
DESCRIPTION:📖 Série de cours : « Notions islamiques fondamentales »\navec le Cheikh Dr Abdelbasset Ben Issa 🌸 \n🕋 Chaque mercredi après la prière du ʿIchâʾ \nDes cours enrichissants pour corriger les notions religieuses et approfondir la compréhension de notre foi.\nUne occasion précieuse de se nourrir de savoir et de spiritualité. 🌿 \n﴾ وَقُل رَّبِّ زِدْنِي عِلْمًا ﴿\n 
URL:https://centrebadr.net/ar/event/serie-de-concepts-juridiques-islamiques-2/2026-06-24/
LOCATION:Mosquée Badr\, 8625 Boulevard Langelier\, Saint-Léonard\, QC\, H1P 2C6\, Canada
CATEGORIES:eventsList
ORGANIZER;CN="Centre Islamique Badr":MAILTO:info@centrebadr.net
END:VEVENT
BEGIN:VEVENT
DTSTART;TZID=America/Toronto:20260701T200000
DTEND;TZID=America/Toronto:20260701T213000
DTSTAMP:20260419T173044
CREATED:20251020T025413Z
LAST-MODIFIED:20251020T025536Z
UID:10006726-1782936000-1782941400@centrebadr.net
SUMMARY:Série de Concepts Juridiques Islamiques
DESCRIPTION:📖 Série de cours : « Notions islamiques fondamentales »\navec le Cheikh Dr Abdelbasset Ben Issa 🌸 \n🕋 Chaque mercredi après la prière du ʿIchâʾ \nDes cours enrichissants pour corriger les notions religieuses et approfondir la compréhension de notre foi.\nUne occasion précieuse de se nourrir de savoir et de spiritualité. 🌿 \n﴾ وَقُل رَّبِّ زِدْنِي عِلْمًا ﴿\n 
URL:https://centrebadr.net/ar/event/serie-de-concepts-juridiques-islamiques-2/2026-07-01/
LOCATION:Mosquée Badr\, 8625 Boulevard Langelier\, Saint-Léonard\, QC\, H1P 2C6\, Canada
CATEGORIES:eventsList
ORGANIZER;CN="Centre Islamique Badr":MAILTO:info@centrebadr.net
END:VEVENT
BEGIN:VEVENT
DTSTART;TZID=America/Toronto:20260708T200000
DTEND;TZID=America/Toronto:20260708T213000
DTSTAMP:20260419T173044
CREATED:20251020T025413Z
LAST-MODIFIED:20251020T025536Z
UID:10006727-1783540800-1783546200@centrebadr.net
SUMMARY:Série de Concepts Juridiques Islamiques
DESCRIPTION:📖 Série de cours : « Notions islamiques fondamentales »\navec le Cheikh Dr Abdelbasset Ben Issa 🌸 \n🕋 Chaque mercredi après la prière du ʿIchâʾ \nDes cours enrichissants pour corriger les notions religieuses et approfondir la compréhension de notre foi.\nUne occasion précieuse de se nourrir de savoir et de spiritualité. 🌿 \n﴾ وَقُل رَّبِّ زِدْنِي عِلْمًا ﴿\n 
URL:https://centrebadr.net/ar/event/serie-de-concepts-juridiques-islamiques-2/2026-07-08/
LOCATION:Mosquée Badr\, 8625 Boulevard Langelier\, Saint-Léonard\, QC\, H1P 2C6\, Canada
CATEGORIES:eventsList
ORGANIZER;CN="Centre Islamique Badr":MAILTO:info@centrebadr.net
END:VEVENT
BEGIN:VEVENT
DTSTART;TZID=America/Toronto:20260715T200000
DTEND;TZID=America/Toronto:20260715T213000
DTSTAMP:20260419T173044
CREATED:20251020T025413Z
LAST-MODIFIED:20251020T025536Z
UID:10006728-1784145600-1784151000@centrebadr.net
SUMMARY:Série de Concepts Juridiques Islamiques
DESCRIPTION:📖 Série de cours : « Notions islamiques fondamentales »\navec le Cheikh Dr Abdelbasset Ben Issa 🌸 \n🕋 Chaque mercredi après la prière du ʿIchâʾ \nDes cours enrichissants pour corriger les notions religieuses et approfondir la compréhension de notre foi.\nUne occasion précieuse de se nourrir de savoir et de spiritualité. 🌿 \n﴾ وَقُل رَّبِّ زِدْنِي عِلْمًا ﴿\n 
URL:https://centrebadr.net/ar/event/serie-de-concepts-juridiques-islamiques-2/2026-07-15/
LOCATION:Mosquée Badr\, 8625 Boulevard Langelier\, Saint-Léonard\, QC\, H1P 2C6\, Canada
CATEGORIES:eventsList
ORGANIZER;CN="Centre Islamique Badr":MAILTO:info@centrebadr.net
END:VEVENT
BEGIN:VEVENT
DTSTART;TZID=America/Toronto:20260722T200000
DTEND;TZID=America/Toronto:20260722T213000
DTSTAMP:20260419T173044
CREATED:20251020T025413Z
LAST-MODIFIED:20251020T025536Z
UID:10006729-1784750400-1784755800@centrebadr.net
SUMMARY:Série de Concepts Juridiques Islamiques
DESCRIPTION:📖 Série de cours : « Notions islamiques fondamentales »\navec le Cheikh Dr Abdelbasset Ben Issa 🌸 \n🕋 Chaque mercredi après la prière du ʿIchâʾ \nDes cours enrichissants pour corriger les notions religieuses et approfondir la compréhension de notre foi.\nUne occasion précieuse de se nourrir de savoir et de spiritualité. 🌿 \n﴾ وَقُل رَّبِّ زِدْنِي عِلْمًا ﴿\n 
URL:https://centrebadr.net/ar/event/serie-de-concepts-juridiques-islamiques-2/2026-07-22/
LOCATION:Mosquée Badr\, 8625 Boulevard Langelier\, Saint-Léonard\, QC\, H1P 2C6\, Canada
CATEGORIES:eventsList
ORGANIZER;CN="Centre Islamique Badr":MAILTO:info@centrebadr.net
END:VEVENT
BEGIN:VEVENT
DTSTART;TZID=America/Toronto:20260729T200000
DTEND;TZID=America/Toronto:20260729T213000
DTSTAMP:20260419T173044
CREATED:20251020T025413Z
LAST-MODIFIED:20251020T025536Z
UID:10006730-1785355200-1785360600@centrebadr.net
SUMMARY:Série de Concepts Juridiques Islamiques
DESCRIPTION:📖 Série de cours : « Notions islamiques fondamentales »\navec le Cheikh Dr Abdelbasset Ben Issa 🌸 \n🕋 Chaque mercredi après la prière du ʿIchâʾ \nDes cours enrichissants pour corriger les notions religieuses et approfondir la compréhension de notre foi.\nUne occasion précieuse de se nourrir de savoir et de spiritualité. 🌿 \n﴾ وَقُل رَّبِّ زِدْنِي عِلْمًا ﴿\n 
URL:https://centrebadr.net/ar/event/serie-de-concepts-juridiques-islamiques-2/2026-07-29/
LOCATION:Mosquée Badr\, 8625 Boulevard Langelier\, Saint-Léonard\, QC\, H1P 2C6\, Canada
CATEGORIES:eventsList
ORGANIZER;CN="Centre Islamique Badr":MAILTO:info@centrebadr.net
END:VEVENT
BEGIN:VEVENT
DTSTART;TZID=America/Toronto:20260805T200000
DTEND;TZID=America/Toronto:20260805T213000
DTSTAMP:20260419T173044
CREATED:20251020T025413Z
LAST-MODIFIED:20251020T025536Z
UID:10006731-1785960000-1785965400@centrebadr.net
SUMMARY:Série de Concepts Juridiques Islamiques
DESCRIPTION:📖 Série de cours : « Notions islamiques fondamentales »\navec le Cheikh Dr Abdelbasset Ben Issa 🌸 \n🕋 Chaque mercredi après la prière du ʿIchâʾ \nDes cours enrichissants pour corriger les notions religieuses et approfondir la compréhension de notre foi.\nUne occasion précieuse de se nourrir de savoir et de spiritualité. 🌿 \n﴾ وَقُل رَّبِّ زِدْنِي عِلْمًا ﴿\n 
URL:https://centrebadr.net/ar/event/serie-de-concepts-juridiques-islamiques-2/2026-08-05/
LOCATION:Mosquée Badr\, 8625 Boulevard Langelier\, Saint-Léonard\, QC\, H1P 2C6\, Canada
CATEGORIES:eventsList
ORGANIZER;CN="Centre Islamique Badr":MAILTO:info@centrebadr.net
END:VEVENT
BEGIN:VEVENT
DTSTART;TZID=America/Toronto:20260812T200000
DTEND;TZID=America/Toronto:20260812T213000
DTSTAMP:20260419T173044
CREATED:20251020T025413Z
LAST-MODIFIED:20251020T025536Z
UID:10006732-1786564800-1786570200@centrebadr.net
SUMMARY:Série de Concepts Juridiques Islamiques
DESCRIPTION:📖 Série de cours : « Notions islamiques fondamentales »\navec le Cheikh Dr Abdelbasset Ben Issa 🌸 \n🕋 Chaque mercredi après la prière du ʿIchâʾ \nDes cours enrichissants pour corriger les notions religieuses et approfondir la compréhension de notre foi.\nUne occasion précieuse de se nourrir de savoir et de spiritualité. 🌿 \n﴾ وَقُل رَّبِّ زِدْنِي عِلْمًا ﴿\n 
URL:https://centrebadr.net/ar/event/serie-de-concepts-juridiques-islamiques-2/2026-08-12/
LOCATION:Mosquée Badr\, 8625 Boulevard Langelier\, Saint-Léonard\, QC\, H1P 2C6\, Canada
CATEGORIES:eventsList
ORGANIZER;CN="Centre Islamique Badr":MAILTO:info@centrebadr.net
END:VEVENT
BEGIN:VEVENT
DTSTART;TZID=America/Toronto:20260819T200000
DTEND;TZID=America/Toronto:20260819T213000
DTSTAMP:20260419T173044
CREATED:20251020T025413Z
LAST-MODIFIED:20251020T025536Z
UID:10006733-1787169600-1787175000@centrebadr.net
SUMMARY:Série de Concepts Juridiques Islamiques
DESCRIPTION:📖 Série de cours : « Notions islamiques fondamentales »\navec le Cheikh Dr Abdelbasset Ben Issa 🌸 \n🕋 Chaque mercredi après la prière du ʿIchâʾ \nDes cours enrichissants pour corriger les notions religieuses et approfondir la compréhension de notre foi.\nUne occasion précieuse de se nourrir de savoir et de spiritualité. 🌿 \n﴾ وَقُل رَّبِّ زِدْنِي عِلْمًا ﴿\n 
URL:https://centrebadr.net/ar/event/serie-de-concepts-juridiques-islamiques-2/2026-08-19/
LOCATION:Mosquée Badr\, 8625 Boulevard Langelier\, Saint-Léonard\, QC\, H1P 2C6\, Canada
CATEGORIES:eventsList
ORGANIZER;CN="Centre Islamique Badr":MAILTO:info@centrebadr.net
END:VEVENT
BEGIN:VEVENT
DTSTART;TZID=America/Toronto:20260826T200000
DTEND;TZID=America/Toronto:20260826T213000
DTSTAMP:20260419T173044
CREATED:20251020T025413Z
LAST-MODIFIED:20251020T025536Z
UID:10006734-1787774400-1787779800@centrebadr.net
SUMMARY:Série de Concepts Juridiques Islamiques
DESCRIPTION:📖 Série de cours : « Notions islamiques fondamentales »\navec le Cheikh Dr Abdelbasset Ben Issa 🌸 \n🕋 Chaque mercredi après la prière du ʿIchâʾ \nDes cours enrichissants pour corriger les notions religieuses et approfondir la compréhension de notre foi.\nUne occasion précieuse de se nourrir de savoir et de spiritualité. 🌿 \n﴾ وَقُل رَّبِّ زِدْنِي عِلْمًا ﴿\n 
URL:https://centrebadr.net/ar/event/serie-de-concepts-juridiques-islamiques-2/2026-08-26/
LOCATION:Mosquée Badr\, 8625 Boulevard Langelier\, Saint-Léonard\, QC\, H1P 2C6\, Canada
CATEGORIES:eventsList
ORGANIZER;CN="Centre Islamique Badr":MAILTO:info@centrebadr.net
END:VEVENT
BEGIN:VEVENT
DTSTART;TZID=America/Toronto:20260902T200000
DTEND;TZID=America/Toronto:20260902T213000
DTSTAMP:20260419T173044
CREATED:20251020T025413Z
LAST-MODIFIED:20251020T025536Z
UID:10006735-1788379200-1788384600@centrebadr.net
SUMMARY:Série de Concepts Juridiques Islamiques
DESCRIPTION:📖 Série de cours : « Notions islamiques fondamentales »\navec le Cheikh Dr Abdelbasset Ben Issa 🌸 \n🕋 Chaque mercredi après la prière du ʿIchâʾ \nDes cours enrichissants pour corriger les notions religieuses et approfondir la compréhension de notre foi.\nUne occasion précieuse de se nourrir de savoir et de spiritualité. 🌿 \n﴾ وَقُل رَّبِّ زِدْنِي عِلْمًا ﴿\n 
URL:https://centrebadr.net/ar/event/serie-de-concepts-juridiques-islamiques-2/2026-09-02/
LOCATION:Mosquée Badr\, 8625 Boulevard Langelier\, Saint-Léonard\, QC\, H1P 2C6\, Canada
CATEGORIES:eventsList
ORGANIZER;CN="Centre Islamique Badr":MAILTO:info@centrebadr.net
END:VEVENT
BEGIN:VEVENT
DTSTART;TZID=America/Toronto:20260909T200000
DTEND;TZID=America/Toronto:20260909T213000
DTSTAMP:20260419T173044
CREATED:20251020T025413Z
LAST-MODIFIED:20251020T025536Z
UID:10006736-1788984000-1788989400@centrebadr.net
SUMMARY:Série de Concepts Juridiques Islamiques
DESCRIPTION:📖 Série de cours : « Notions islamiques fondamentales »\navec le Cheikh Dr Abdelbasset Ben Issa 🌸 \n🕋 Chaque mercredi après la prière du ʿIchâʾ \nDes cours enrichissants pour corriger les notions religieuses et approfondir la compréhension de notre foi.\nUne occasion précieuse de se nourrir de savoir et de spiritualité. 🌿 \n﴾ وَقُل رَّبِّ زِدْنِي عِلْمًا ﴿\n 
URL:https://centrebadr.net/ar/event/serie-de-concepts-juridiques-islamiques-2/2026-09-09/
LOCATION:Mosquée Badr\, 8625 Boulevard Langelier\, Saint-Léonard\, QC\, H1P 2C6\, Canada
CATEGORIES:eventsList
ORGANIZER;CN="Centre Islamique Badr":MAILTO:info@centrebadr.net
END:VEVENT
BEGIN:VEVENT
DTSTART;TZID=America/Toronto:20260916T200000
DTEND;TZID=America/Toronto:20260916T213000
DTSTAMP:20260419T173044
CREATED:20251020T025413Z
LAST-MODIFIED:20251020T025536Z
UID:10006737-1789588800-1789594200@centrebadr.net
SUMMARY:Série de Concepts Juridiques Islamiques
DESCRIPTION:📖 Série de cours : « Notions islamiques fondamentales »\navec le Cheikh Dr Abdelbasset Ben Issa 🌸 \n🕋 Chaque mercredi après la prière du ʿIchâʾ \nDes cours enrichissants pour corriger les notions religieuses et approfondir la compréhension de notre foi.\nUne occasion précieuse de se nourrir de savoir et de spiritualité. 🌿 \n﴾ وَقُل رَّبِّ زِدْنِي عِلْمًا ﴿\n 
URL:https://centrebadr.net/ar/event/serie-de-concepts-juridiques-islamiques-2/2026-09-16/
LOCATION:Mosquée Badr\, 8625 Boulevard Langelier\, Saint-Léonard\, QC\, H1P 2C6\, Canada
CATEGORIES:eventsList
ORGANIZER;CN="Centre Islamique Badr":MAILTO:info@centrebadr.net
END:VEVENT
BEGIN:VEVENT
DTSTART;TZID=America/Toronto:20260923T200000
DTEND;TZID=America/Toronto:20260923T213000
DTSTAMP:20260419T173044
CREATED:20251020T025413Z
LAST-MODIFIED:20251020T025536Z
UID:10006738-1790193600-1790199000@centrebadr.net
SUMMARY:Série de Concepts Juridiques Islamiques
DESCRIPTION:📖 Série de cours : « Notions islamiques fondamentales »\navec le Cheikh Dr Abdelbasset Ben Issa 🌸 \n🕋 Chaque mercredi après la prière du ʿIchâʾ \nDes cours enrichissants pour corriger les notions religieuses et approfondir la compréhension de notre foi.\nUne occasion précieuse de se nourrir de savoir et de spiritualité. 🌿 \n﴾ وَقُل رَّبِّ زِدْنِي عِلْمًا ﴿\n 
URL:https://centrebadr.net/ar/event/serie-de-concepts-juridiques-islamiques-2/2026-09-23/
LOCATION:Mosquée Badr\, 8625 Boulevard Langelier\, Saint-Léonard\, QC\, H1P 2C6\, Canada
CATEGORIES:eventsList
ORGANIZER;CN="Centre Islamique Badr":MAILTO:info@centrebadr.net
END:VEVENT
BEGIN:VEVENT
DTSTART;TZID=America/Toronto:20260930T200000
DTEND;TZID=America/Toronto:20260930T213000
DTSTAMP:20260419T173044
CREATED:20251020T025413Z
LAST-MODIFIED:20251020T025536Z
UID:10006739-1790798400-1790803800@centrebadr.net
SUMMARY:Série de Concepts Juridiques Islamiques
DESCRIPTION:📖 Série de cours : « Notions islamiques fondamentales »\navec le Cheikh Dr Abdelbasset Ben Issa 🌸 \n🕋 Chaque mercredi après la prière du ʿIchâʾ \nDes cours enrichissants pour corriger les notions religieuses et approfondir la compréhension de notre foi.\nUne occasion précieuse de se nourrir de savoir et de spiritualité. 🌿 \n﴾ وَقُل رَّبِّ زِدْنِي عِلْمًا ﴿\n 
URL:https://centrebadr.net/ar/event/serie-de-concepts-juridiques-islamiques-2/2026-09-30/
LOCATION:Mosquée Badr\, 8625 Boulevard Langelier\, Saint-Léonard\, QC\, H1P 2C6\, Canada
CATEGORIES:eventsList
ORGANIZER;CN="Centre Islamique Badr":MAILTO:info@centrebadr.net
END:VEVENT
BEGIN:VEVENT
DTSTART;TZID=America/Toronto:20261007T200000
DTEND;TZID=America/Toronto:20261007T213000
DTSTAMP:20260419T173044
CREATED:20251020T025413Z
LAST-MODIFIED:20251020T025536Z
UID:10006740-1791403200-1791408600@centrebadr.net
SUMMARY:Série de Concepts Juridiques Islamiques
DESCRIPTION:📖 Série de cours : « Notions islamiques fondamentales »\navec le Cheikh Dr Abdelbasset Ben Issa 🌸 \n🕋 Chaque mercredi après la prière du ʿIchâʾ \nDes cours enrichissants pour corriger les notions religieuses et approfondir la compréhension de notre foi.\nUne occasion précieuse de se nourrir de savoir et de spiritualité. 🌿 \n﴾ وَقُل رَّبِّ زِدْنِي عِلْمًا ﴿\n 
URL:https://centrebadr.net/ar/event/serie-de-concepts-juridiques-islamiques-2/2026-10-07/
LOCATION:Mosquée Badr\, 8625 Boulevard Langelier\, Saint-Léonard\, QC\, H1P 2C6\, Canada
CATEGORIES:eventsList
ORGANIZER;CN="Centre Islamique Badr":MAILTO:info@centrebadr.net
END:VEVENT
BEGIN:VEVENT
DTSTART;TZID=America/Toronto:20261014T200000
DTEND;TZID=America/Toronto:20261014T213000
DTSTAMP:20260419T173044
CREATED:20251020T025413Z
LAST-MODIFIED:20251020T025536Z
UID:10006741-1792008000-1792013400@centrebadr.net
SUMMARY:Série de Concepts Juridiques Islamiques
DESCRIPTION:📖 Série de cours : « Notions islamiques fondamentales »\navec le Cheikh Dr Abdelbasset Ben Issa 🌸 \n🕋 Chaque mercredi après la prière du ʿIchâʾ \nDes cours enrichissants pour corriger les notions religieuses et approfondir la compréhension de notre foi.\nUne occasion précieuse de se nourrir de savoir et de spiritualité. 🌿 \n﴾ وَقُل رَّبِّ زِدْنِي عِلْمًا ﴿\n 
URL:https://centrebadr.net/ar/event/serie-de-concepts-juridiques-islamiques-2/2026-10-14/
LOCATION:Mosquée Badr\, 8625 Boulevard Langelier\, Saint-Léonard\, QC\, H1P 2C6\, Canada
CATEGORIES:eventsList
ORGANIZER;CN="Centre Islamique Badr":MAILTO:info@centrebadr.net
END:VEVENT
BEGIN:VEVENT
DTSTART;TZID=America/Toronto:20261021T200000
DTEND;TZID=America/Toronto:20261021T213000
DTSTAMP:20260419T173044
CREATED:20251020T025413Z
LAST-MODIFIED:20251020T025536Z
UID:10006742-1792612800-1792618200@centrebadr.net
SUMMARY:Série de Concepts Juridiques Islamiques
DESCRIPTION:📖 Série de cours : « Notions islamiques fondamentales »\navec le Cheikh Dr Abdelbasset Ben Issa 🌸 \n🕋 Chaque mercredi après la prière du ʿIchâʾ \nDes cours enrichissants pour corriger les notions religieuses et approfondir la compréhension de notre foi.\nUne occasion précieuse de se nourrir de savoir et de spiritualité. 🌿 \n﴾ وَقُل رَّبِّ زِدْنِي عِلْمًا ﴿\n 
URL:https://centrebadr.net/ar/event/serie-de-concepts-juridiques-islamiques-2/2026-10-21/
LOCATION:Mosquée Badr\, 8625 Boulevard Langelier\, Saint-Léonard\, QC\, H1P 2C6\, Canada
CATEGORIES:eventsList
ORGANIZER;CN="Centre Islamique Badr":MAILTO:info@centrebadr.net
END:VEVENT
END:VCALENDAR