BEGIN:VCALENDAR
VERSION:2.0
PRODID:-//Centre Islamique Badr - ECPv6.8.2.1//NONSGML v1.0//EN
CALSCALE:GREGORIAN
METHOD:PUBLISH
X-WR-CALNAME:Centre Islamique Badr
X-ORIGINAL-URL:https://centrebadr.net
X-WR-CALDESC:Évènements pour Centre Islamique Badr
REFRESH-INTERVAL;VALUE=DURATION:PT1H
X-Robots-Tag:noindex
X-PUBLISHED-TTL:PT1H
BEGIN:VTIMEZONE
TZID:UTC
BEGIN:STANDARD
TZOFFSETFROM:+0000
TZOFFSETTO:+0000
TZNAME:UTC
DTSTART:20270101T000000
END:STANDARD
TZID:America/Toronto
BEGIN:DAYLIGHT
TZOFFSETFROM:-0500
TZOFFSETTO:-0400
TZNAME:EDT
DTSTART:20270314T070000
END:DAYLIGHT
BEGIN:STANDARD
TZOFFSETFROM:-0400
TZOFFSETTO:-0500
TZNAME:EST
DTSTART:20271107T060000
END:STANDARD
END:VTIMEZONE
BEGIN:VEVENT
DTSTART;TZID=UTC:20271029T131500
DTEND;TZID=UTC:20271103T021744
DTSTAMP:20260423T141557
CREATED:20241204T021744Z
LAST-MODIFIED:20251020T021634Z
UID:10000689-1824815700-1825208264@centrebadr.net
SUMMARY:JUMU'AH 3- بالعربية
DESCRIPTION:
URL:https://centrebadr.net/event/jumuah-2-%d8%a8%d8%a7%d9%84%d8%b9%d8%b1%d8%a8%d9%8a%d8%a9/2027-10-29/
LOCATION:Salle Mirage\, 8604 boulevard Langelier\, Saint-Léonard\, QC\, H1P 2Y7\, Canada
CATEGORIES:eventsList
ATTACH;FMTTYPE=image/jpeg:https://centrebadr.net/wp-content/uploads/2024/11/Panorama-salle-rouge-scaled.jpg
ORGANIZER;CN="Centre Islamique Badr":MAILTO:info@centrebadr.net
END:VEVENT
BEGIN:VEVENT
DTSTART;TZID=UTC:20271105T120000
DTEND;TZID=UTC:20271105T120000
DTSTAMP:20260423T141557
CREATED:20170713T124812Z
LAST-MODIFIED:20241204T031740Z
UID:10000167-1825416000-1825416000@centrebadr.net
SUMMARY:JUMU'AH 1- Français
DESCRIPTION:
URL:https://centrebadr.net/event/friday-prayer/2027-11-05/
LOCATION:Salle Mirage\, 8604 boulevard Langelier\, Saint-Léonard\, QC\, H1P 2Y7\, Canada
CATEGORIES:eventsList
ATTACH;FMTTYPE=image/jpeg:https://centrebadr.net/wp-content/uploads/2024/11/DSC09177-Pano-copy.jpg
ORGANIZER;CN="Centre Islamique Badr":MAILTO:info@centrebadr.net
END:VEVENT
BEGIN:VEVENT
DTSTART;TZID=America/Toronto:20271105T123500
DTEND;TZID=America/Toronto:20271105T125500
DTSTAMP:20260423T141557
CREATED:20251020T023155Z
LAST-MODIFIED:20251020T024510Z
UID:10003363-1825418100-1825419300@centrebadr.net
SUMMARY:JUMU'AH 2 – Pour les jeunes du secondaire
DESCRIPTION:3
URL:https://centrebadr.net/event/jumuah-2-pour-les-jeunes-du-secondaire/2027-11-05/
LOCATION:Mosquée Badr\, 8625 Boulevard Langelier\, Saint-Léonard\, QC\, H1P 2C6\, Canada
CATEGORIES:eventsList
ORGANIZER;CN="Centre Islamique Badr":MAILTO:info@centrebadr.net
END:VEVENT
BEGIN:VEVENT
DTSTART;TZID=UTC:20271105T131500
DTEND;TZID=UTC:20271110T021744
DTSTAMP:20260423T141557
CREATED:20241204T021744Z
LAST-MODIFIED:20251020T021634Z
UID:10000690-1825420500-1825813064@centrebadr.net
SUMMARY:JUMU'AH 3- بالعربية
DESCRIPTION:
URL:https://centrebadr.net/event/jumuah-2-%d8%a8%d8%a7%d9%84%d8%b9%d8%b1%d8%a8%d9%8a%d8%a9/2027-11-05/
LOCATION:Salle Mirage\, 8604 boulevard Langelier\, Saint-Léonard\, QC\, H1P 2Y7\, Canada
CATEGORIES:eventsList
ATTACH;FMTTYPE=image/jpeg:https://centrebadr.net/wp-content/uploads/2024/11/Panorama-salle-rouge-scaled.jpg
ORGANIZER;CN="Centre Islamique Badr":MAILTO:info@centrebadr.net
END:VEVENT
BEGIN:VEVENT
DTSTART;TZID=America/Toronto:20271105T180000
DTEND;TZID=America/Toronto:20271105T193000
DTSTAMP:20260423T141557
CREATED:20241204T035058Z
LAST-MODIFIED:20241204T040518Z
UID:10001737-1825437600-1825443000@centrebadr.net
SUMMARY:Mes premiers pas vers la Foi- Dr.Mohamed Aziz Chraibi
DESCRIPTION:
URL:https://centrebadr.net/event/mes-premiers-pas-vers-la-foi/2027-11-05/
LOCATION:Salle Mirage\, 8604 boulevard Langelier\, Saint-Léonard\, QC\, H1P 2Y7\, Canada
CATEGORIES:eventsList
ATTACH;FMTTYPE=image/jpeg:https://centrebadr.net/wp-content/uploads/2024/12/mes-premiers-pas-vers-la-foi.jpg
ORGANIZER;CN="Centre Islamique Badr":MAILTO:info@centrebadr.net
END:VEVENT
BEGIN:VEVENT
DTSTART;TZID=America/Toronto:20271107T123500
DTEND;TZID=America/Toronto:20271107T125500
DTSTAMP:20260423T141557
CREATED:20251020T023155Z
LAST-MODIFIED:20251020T024510Z
UID:10003364-1825590900-1825592100@centrebadr.net
SUMMARY:JUMU'AH 2 – Pour les jeunes du secondaire
DESCRIPTION:3
URL:https://centrebadr.net/event/jumuah-2-pour-les-jeunes-du-secondaire/2027-11-07/
LOCATION:Mosquée Badr\, 8625 Boulevard Langelier\, Saint-Léonard\, QC\, H1P 2C6\, Canada
CATEGORIES:eventsList
ORGANIZER;CN="Centre Islamique Badr":MAILTO:info@centrebadr.net
END:VEVENT
BEGIN:VEVENT
DTSTART;TZID=UTC:20271112T120000
DTEND;TZID=UTC:20271112T120000
DTSTAMP:20260423T141557
CREATED:20170713T124812Z
LAST-MODIFIED:20241204T031740Z
UID:10000168-1826020800-1826020800@centrebadr.net
SUMMARY:JUMU'AH 1- Français
DESCRIPTION:
URL:https://centrebadr.net/event/friday-prayer/2027-11-12/
LOCATION:Salle Mirage\, 8604 boulevard Langelier\, Saint-Léonard\, QC\, H1P 2Y7\, Canada
CATEGORIES:eventsList
ATTACH;FMTTYPE=image/jpeg:https://centrebadr.net/wp-content/uploads/2024/11/DSC09177-Pano-copy.jpg
ORGANIZER;CN="Centre Islamique Badr":MAILTO:info@centrebadr.net
END:VEVENT
BEGIN:VEVENT
DTSTART;TZID=America/Toronto:20271112T123500
DTEND;TZID=America/Toronto:20271112T125500
DTSTAMP:20260423T141557
CREATED:20251020T023155Z
LAST-MODIFIED:20251020T024510Z
UID:10003365-1826022900-1826024100@centrebadr.net
SUMMARY:JUMU'AH 2 – Pour les jeunes du secondaire
DESCRIPTION:3
URL:https://centrebadr.net/event/jumuah-2-pour-les-jeunes-du-secondaire/2027-11-12/
LOCATION:Mosquée Badr\, 8625 Boulevard Langelier\, Saint-Léonard\, QC\, H1P 2C6\, Canada
CATEGORIES:eventsList
ORGANIZER;CN="Centre Islamique Badr":MAILTO:info@centrebadr.net
END:VEVENT
BEGIN:VEVENT
DTSTART;TZID=UTC:20271112T131500
DTEND;TZID=UTC:20271117T021744
DTSTAMP:20260423T141557
CREATED:20241204T021744Z
LAST-MODIFIED:20251020T021634Z
UID:10000691-1826025300-1826417864@centrebadr.net
SUMMARY:JUMU'AH 3- بالعربية
DESCRIPTION:
URL:https://centrebadr.net/event/jumuah-2-%d8%a8%d8%a7%d9%84%d8%b9%d8%b1%d8%a8%d9%8a%d8%a9/2027-11-12/
LOCATION:Salle Mirage\, 8604 boulevard Langelier\, Saint-Léonard\, QC\, H1P 2Y7\, Canada
CATEGORIES:eventsList
ATTACH;FMTTYPE=image/jpeg:https://centrebadr.net/wp-content/uploads/2024/11/Panorama-salle-rouge-scaled.jpg
ORGANIZER;CN="Centre Islamique Badr":MAILTO:info@centrebadr.net
END:VEVENT
BEGIN:VEVENT
DTSTART;TZID=America/Toronto:20271112T180000
DTEND;TZID=America/Toronto:20271112T193000
DTSTAMP:20260423T141557
CREATED:20241204T035058Z
LAST-MODIFIED:20241204T040518Z
UID:10001738-1826042400-1826047800@centrebadr.net
SUMMARY:Mes premiers pas vers la Foi- Dr.Mohamed Aziz Chraibi
DESCRIPTION:
URL:https://centrebadr.net/event/mes-premiers-pas-vers-la-foi/2027-11-12/
LOCATION:Salle Mirage\, 8604 boulevard Langelier\, Saint-Léonard\, QC\, H1P 2Y7\, Canada
CATEGORIES:eventsList
ATTACH;FMTTYPE=image/jpeg:https://centrebadr.net/wp-content/uploads/2024/12/mes-premiers-pas-vers-la-foi.jpg
ORGANIZER;CN="Centre Islamique Badr":MAILTO:info@centrebadr.net
END:VEVENT
BEGIN:VEVENT
DTSTART;TZID=America/Toronto:20271114T123500
DTEND;TZID=America/Toronto:20271114T125500
DTSTAMP:20260423T141557
CREATED:20251020T023155Z
LAST-MODIFIED:20251020T024510Z
UID:10003366-1826195700-1826196900@centrebadr.net
SUMMARY:JUMU'AH 2 – Pour les jeunes du secondaire
DESCRIPTION:3
URL:https://centrebadr.net/event/jumuah-2-pour-les-jeunes-du-secondaire/2027-11-14/
LOCATION:Mosquée Badr\, 8625 Boulevard Langelier\, Saint-Léonard\, QC\, H1P 2C6\, Canada
CATEGORIES:eventsList
ORGANIZER;CN="Centre Islamique Badr":MAILTO:info@centrebadr.net
END:VEVENT
BEGIN:VEVENT
DTSTART;TZID=UTC:20271119T120000
DTEND;TZID=UTC:20271119T120000
DTSTAMP:20260423T141557
CREATED:20170713T124812Z
LAST-MODIFIED:20241204T031740Z
UID:10000169-1826625600-1826625600@centrebadr.net
SUMMARY:JUMU'AH 1- Français
DESCRIPTION:
URL:https://centrebadr.net/event/friday-prayer/2027-11-19/
LOCATION:Salle Mirage\, 8604 boulevard Langelier\, Saint-Léonard\, QC\, H1P 2Y7\, Canada
CATEGORIES:eventsList
ATTACH;FMTTYPE=image/jpeg:https://centrebadr.net/wp-content/uploads/2024/11/DSC09177-Pano-copy.jpg
ORGANIZER;CN="Centre Islamique Badr":MAILTO:info@centrebadr.net
END:VEVENT
BEGIN:VEVENT
DTSTART;TZID=America/Toronto:20271119T123500
DTEND;TZID=America/Toronto:20271119T125500
DTSTAMP:20260423T141557
CREATED:20251020T023155Z
LAST-MODIFIED:20251020T024510Z
UID:10003367-1826627700-1826628900@centrebadr.net
SUMMARY:JUMU'AH 2 – Pour les jeunes du secondaire
DESCRIPTION:3
URL:https://centrebadr.net/event/jumuah-2-pour-les-jeunes-du-secondaire/2027-11-19/
LOCATION:Mosquée Badr\, 8625 Boulevard Langelier\, Saint-Léonard\, QC\, H1P 2C6\, Canada
CATEGORIES:eventsList
ORGANIZER;CN="Centre Islamique Badr":MAILTO:info@centrebadr.net
END:VEVENT
BEGIN:VEVENT
DTSTART;TZID=UTC:20271119T131500
DTEND;TZID=UTC:20271124T021744
DTSTAMP:20260423T141557
CREATED:20241204T021744Z
LAST-MODIFIED:20251020T021634Z
UID:10000692-1826630100-1827022664@centrebadr.net
SUMMARY:JUMU'AH 3- بالعربية
DESCRIPTION:
URL:https://centrebadr.net/event/jumuah-2-%d8%a8%d8%a7%d9%84%d8%b9%d8%b1%d8%a8%d9%8a%d8%a9/2027-11-19/
LOCATION:Salle Mirage\, 8604 boulevard Langelier\, Saint-Léonard\, QC\, H1P 2Y7\, Canada
CATEGORIES:eventsList
ATTACH;FMTTYPE=image/jpeg:https://centrebadr.net/wp-content/uploads/2024/11/Panorama-salle-rouge-scaled.jpg
ORGANIZER;CN="Centre Islamique Badr":MAILTO:info@centrebadr.net
END:VEVENT
BEGIN:VEVENT
DTSTART;TZID=America/Toronto:20271119T180000
DTEND;TZID=America/Toronto:20271119T193000
DTSTAMP:20260423T141557
CREATED:20241204T035058Z
LAST-MODIFIED:20241204T040518Z
UID:10001739-1826647200-1826652600@centrebadr.net
SUMMARY:Mes premiers pas vers la Foi- Dr.Mohamed Aziz Chraibi
DESCRIPTION:
URL:https://centrebadr.net/event/mes-premiers-pas-vers-la-foi/2027-11-19/
LOCATION:Salle Mirage\, 8604 boulevard Langelier\, Saint-Léonard\, QC\, H1P 2Y7\, Canada
CATEGORIES:eventsList
ATTACH;FMTTYPE=image/jpeg:https://centrebadr.net/wp-content/uploads/2024/12/mes-premiers-pas-vers-la-foi.jpg
ORGANIZER;CN="Centre Islamique Badr":MAILTO:info@centrebadr.net
END:VEVENT
BEGIN:VEVENT
DTSTART;TZID=America/Toronto:20271121T123500
DTEND;TZID=America/Toronto:20271121T125500
DTSTAMP:20260423T141557
CREATED:20251020T023155Z
LAST-MODIFIED:20251020T024510Z
UID:10003368-1826800500-1826801700@centrebadr.net
SUMMARY:JUMU'AH 2 – Pour les jeunes du secondaire
DESCRIPTION:3
URL:https://centrebadr.net/event/jumuah-2-pour-les-jeunes-du-secondaire/2027-11-21/
LOCATION:Mosquée Badr\, 8625 Boulevard Langelier\, Saint-Léonard\, QC\, H1P 2C6\, Canada
CATEGORIES:eventsList
ORGANIZER;CN="Centre Islamique Badr":MAILTO:info@centrebadr.net
END:VEVENT
BEGIN:VEVENT
DTSTART;TZID=UTC:20271126T120000
DTEND;TZID=UTC:20271126T120000
DTSTAMP:20260423T141557
CREATED:20170713T124812Z
LAST-MODIFIED:20241204T031740Z
UID:10000170-1827230400-1827230400@centrebadr.net
SUMMARY:JUMU'AH 1- Français
DESCRIPTION:
URL:https://centrebadr.net/event/friday-prayer/2027-11-26/
LOCATION:Salle Mirage\, 8604 boulevard Langelier\, Saint-Léonard\, QC\, H1P 2Y7\, Canada
CATEGORIES:eventsList
ATTACH;FMTTYPE=image/jpeg:https://centrebadr.net/wp-content/uploads/2024/11/DSC09177-Pano-copy.jpg
ORGANIZER;CN="Centre Islamique Badr":MAILTO:info@centrebadr.net
END:VEVENT
BEGIN:VEVENT
DTSTART;TZID=America/Toronto:20271126T123500
DTEND;TZID=America/Toronto:20271126T125500
DTSTAMP:20260423T141557
CREATED:20251020T023155Z
LAST-MODIFIED:20251020T024510Z
UID:10003369-1827232500-1827233700@centrebadr.net
SUMMARY:JUMU'AH 2 – Pour les jeunes du secondaire
DESCRIPTION:3
URL:https://centrebadr.net/event/jumuah-2-pour-les-jeunes-du-secondaire/2027-11-26/
LOCATION:Mosquée Badr\, 8625 Boulevard Langelier\, Saint-Léonard\, QC\, H1P 2C6\, Canada
CATEGORIES:eventsList
ORGANIZER;CN="Centre Islamique Badr":MAILTO:info@centrebadr.net
END:VEVENT
BEGIN:VEVENT
DTSTART;TZID=UTC:20271126T131500
DTEND;TZID=UTC:20271201T021744
DTSTAMP:20260423T141557
CREATED:20241204T021744Z
LAST-MODIFIED:20251020T021634Z
UID:10000693-1827234900-1827627464@centrebadr.net
SUMMARY:JUMU'AH 3- بالعربية
DESCRIPTION:
URL:https://centrebadr.net/event/jumuah-2-%d8%a8%d8%a7%d9%84%d8%b9%d8%b1%d8%a8%d9%8a%d8%a9/2027-11-26/
LOCATION:Salle Mirage\, 8604 boulevard Langelier\, Saint-Léonard\, QC\, H1P 2Y7\, Canada
CATEGORIES:eventsList
ATTACH;FMTTYPE=image/jpeg:https://centrebadr.net/wp-content/uploads/2024/11/Panorama-salle-rouge-scaled.jpg
ORGANIZER;CN="Centre Islamique Badr":MAILTO:info@centrebadr.net
END:VEVENT
BEGIN:VEVENT
DTSTART;TZID=America/Toronto:20271126T180000
DTEND;TZID=America/Toronto:20271126T193000
DTSTAMP:20260423T141557
CREATED:20241204T035058Z
LAST-MODIFIED:20241204T040518Z
UID:10001740-1827252000-1827257400@centrebadr.net
SUMMARY:Mes premiers pas vers la Foi- Dr.Mohamed Aziz Chraibi
DESCRIPTION:
URL:https://centrebadr.net/event/mes-premiers-pas-vers-la-foi/2027-11-26/
LOCATION:Salle Mirage\, 8604 boulevard Langelier\, Saint-Léonard\, QC\, H1P 2Y7\, Canada
CATEGORIES:eventsList
ATTACH;FMTTYPE=image/jpeg:https://centrebadr.net/wp-content/uploads/2024/12/mes-premiers-pas-vers-la-foi.jpg
ORGANIZER;CN="Centre Islamique Badr":MAILTO:info@centrebadr.net
END:VEVENT
BEGIN:VEVENT
DTSTART;TZID=America/Toronto:20271128T123500
DTEND;TZID=America/Toronto:20271128T125500
DTSTAMP:20260423T141557
CREATED:20251020T023155Z
LAST-MODIFIED:20251020T024510Z
UID:10003370-1827405300-1827406500@centrebadr.net
SUMMARY:JUMU'AH 2 – Pour les jeunes du secondaire
DESCRIPTION:3
URL:https://centrebadr.net/event/jumuah-2-pour-les-jeunes-du-secondaire/2027-11-28/
LOCATION:Mosquée Badr\, 8625 Boulevard Langelier\, Saint-Léonard\, QC\, H1P 2C6\, Canada
CATEGORIES:eventsList
ORGANIZER;CN="Centre Islamique Badr":MAILTO:info@centrebadr.net
END:VEVENT
END:VCALENDAR