BEGIN:VCALENDAR
VERSION:2.0
PRODID:-//Centre Islamique Badr - ECPv6.8.2.1//NONSGML v1.0//EN
CALSCALE:GREGORIAN
METHOD:PUBLISH
X-WR-CALNAME:Centre Islamique Badr
X-ORIGINAL-URL:https://centrebadr.net
X-WR-CALDESC:Évènements pour Centre Islamique Badr
REFRESH-INTERVAL;VALUE=DURATION:PT1H
X-Robots-Tag:noindex
X-PUBLISHED-TTL:PT1H
BEGIN:VTIMEZONE
TZID:UTC
BEGIN:STANDARD
TZOFFSETFROM:+0000
TZOFFSETTO:+0000
TZNAME:UTC
DTSTART:20270101T000000
END:STANDARD
TZID:America/Toronto
BEGIN:DAYLIGHT
TZOFFSETFROM:-0500
TZOFFSETTO:-0400
TZNAME:EDT
DTSTART:20270314T070000
END:DAYLIGHT
BEGIN:STANDARD
TZOFFSETFROM:-0400
TZOFFSETTO:-0500
TZNAME:EST
DTSTART:20271107T060000
END:STANDARD
END:VTIMEZONE
BEGIN:VEVENT
DTSTART;TZID=UTC:20271126T131500
DTEND;TZID=UTC:20271201T021744
DTSTAMP:20260424T040448
CREATED:20241204T021744Z
LAST-MODIFIED:20251020T021634Z
UID:10000693-1827234900-1827627464@centrebadr.net
SUMMARY:JUMU'AH 3- بالعربية
DESCRIPTION:
URL:https://centrebadr.net/event/jumuah-2-%d8%a8%d8%a7%d9%84%d8%b9%d8%b1%d8%a8%d9%8a%d8%a9/2027-11-26/
LOCATION:Salle Mirage\, 8604 boulevard Langelier\, Saint-Léonard\, QC\, H1P 2Y7\, Canada
CATEGORIES:eventsList
ATTACH;FMTTYPE=image/jpeg:https://centrebadr.net/wp-content/uploads/2024/11/Panorama-salle-rouge-scaled.jpg
ORGANIZER;CN="Centre Islamique Badr":MAILTO:info@centrebadr.net
END:VEVENT
BEGIN:VEVENT
DTSTART;TZID=UTC:20271203T120000
DTEND;TZID=UTC:20271203T120000
DTSTAMP:20260424T040448
CREATED:20170713T124812Z
LAST-MODIFIED:20241204T031740Z
UID:10000171-1827835200-1827835200@centrebadr.net
SUMMARY:JUMU'AH 1- Français
DESCRIPTION:
URL:https://centrebadr.net/event/friday-prayer/2027-12-03/
LOCATION:Salle Mirage\, 8604 boulevard Langelier\, Saint-Léonard\, QC\, H1P 2Y7\, Canada
CATEGORIES:eventsList
ATTACH;FMTTYPE=image/jpeg:https://centrebadr.net/wp-content/uploads/2024/11/DSC09177-Pano-copy.jpg
ORGANIZER;CN="Centre Islamique Badr":MAILTO:info@centrebadr.net
END:VEVENT
BEGIN:VEVENT
DTSTART;TZID=America/Toronto:20271203T123500
DTEND;TZID=America/Toronto:20271203T125500
DTSTAMP:20260424T040448
CREATED:20251020T023155Z
LAST-MODIFIED:20251020T024510Z
UID:10003371-1827837300-1827838500@centrebadr.net
SUMMARY:JUMU'AH 2 – Pour les jeunes du secondaire
DESCRIPTION:3
URL:https://centrebadr.net/event/jumuah-2-pour-les-jeunes-du-secondaire/2027-12-03/
LOCATION:Mosquée Badr\, 8625 Boulevard Langelier\, Saint-Léonard\, QC\, H1P 2C6\, Canada
CATEGORIES:eventsList
ORGANIZER;CN="Centre Islamique Badr":MAILTO:info@centrebadr.net
END:VEVENT
BEGIN:VEVENT
DTSTART;TZID=UTC:20271203T131500
DTEND;TZID=UTC:20271208T021744
DTSTAMP:20260424T040448
CREATED:20241204T021744Z
LAST-MODIFIED:20251020T021634Z
UID:10000694-1827839700-1828232264@centrebadr.net
SUMMARY:JUMU'AH 3- بالعربية
DESCRIPTION:
URL:https://centrebadr.net/event/jumuah-2-%d8%a8%d8%a7%d9%84%d8%b9%d8%b1%d8%a8%d9%8a%d8%a9/2027-12-03/
LOCATION:Salle Mirage\, 8604 boulevard Langelier\, Saint-Léonard\, QC\, H1P 2Y7\, Canada
CATEGORIES:eventsList
ATTACH;FMTTYPE=image/jpeg:https://centrebadr.net/wp-content/uploads/2024/11/Panorama-salle-rouge-scaled.jpg
ORGANIZER;CN="Centre Islamique Badr":MAILTO:info@centrebadr.net
END:VEVENT
BEGIN:VEVENT
DTSTART;TZID=America/Toronto:20271203T180000
DTEND;TZID=America/Toronto:20271203T193000
DTSTAMP:20260424T040448
CREATED:20241204T035058Z
LAST-MODIFIED:20241204T040518Z
UID:10001741-1827856800-1827862200@centrebadr.net
SUMMARY:Mes premiers pas vers la Foi- Dr.Mohamed Aziz Chraibi
DESCRIPTION:
URL:https://centrebadr.net/event/mes-premiers-pas-vers-la-foi/2027-12-03/
LOCATION:Salle Mirage\, 8604 boulevard Langelier\, Saint-Léonard\, QC\, H1P 2Y7\, Canada
CATEGORIES:eventsList
ATTACH;FMTTYPE=image/jpeg:https://centrebadr.net/wp-content/uploads/2024/12/mes-premiers-pas-vers-la-foi.jpg
ORGANIZER;CN="Centre Islamique Badr":MAILTO:info@centrebadr.net
END:VEVENT
BEGIN:VEVENT
DTSTART;TZID=America/Toronto:20271205T123500
DTEND;TZID=America/Toronto:20271205T125500
DTSTAMP:20260424T040448
CREATED:20251020T023155Z
LAST-MODIFIED:20251020T024510Z
UID:10003372-1828010100-1828011300@centrebadr.net
SUMMARY:JUMU'AH 2 – Pour les jeunes du secondaire
DESCRIPTION:3
URL:https://centrebadr.net/event/jumuah-2-pour-les-jeunes-du-secondaire/2027-12-05/
LOCATION:Mosquée Badr\, 8625 Boulevard Langelier\, Saint-Léonard\, QC\, H1P 2C6\, Canada
CATEGORIES:eventsList
ORGANIZER;CN="Centre Islamique Badr":MAILTO:info@centrebadr.net
END:VEVENT
BEGIN:VEVENT
DTSTART;TZID=UTC:20271210T120000
DTEND;TZID=UTC:20271210T120000
DTSTAMP:20260424T040448
CREATED:20170713T124812Z
LAST-MODIFIED:20241204T031740Z
UID:10000172-1828440000-1828440000@centrebadr.net
SUMMARY:JUMU'AH 1- Français
DESCRIPTION:
URL:https://centrebadr.net/event/friday-prayer/2027-12-10/
LOCATION:Salle Mirage\, 8604 boulevard Langelier\, Saint-Léonard\, QC\, H1P 2Y7\, Canada
CATEGORIES:eventsList
ATTACH;FMTTYPE=image/jpeg:https://centrebadr.net/wp-content/uploads/2024/11/DSC09177-Pano-copy.jpg
ORGANIZER;CN="Centre Islamique Badr":MAILTO:info@centrebadr.net
END:VEVENT
BEGIN:VEVENT
DTSTART;TZID=America/Toronto:20271210T123500
DTEND;TZID=America/Toronto:20271210T125500
DTSTAMP:20260424T040448
CREATED:20251020T023155Z
LAST-MODIFIED:20251020T024510Z
UID:10003373-1828442100-1828443300@centrebadr.net
SUMMARY:JUMU'AH 2 – Pour les jeunes du secondaire
DESCRIPTION:3
URL:https://centrebadr.net/event/jumuah-2-pour-les-jeunes-du-secondaire/2027-12-10/
LOCATION:Mosquée Badr\, 8625 Boulevard Langelier\, Saint-Léonard\, QC\, H1P 2C6\, Canada
CATEGORIES:eventsList
ORGANIZER;CN="Centre Islamique Badr":MAILTO:info@centrebadr.net
END:VEVENT
BEGIN:VEVENT
DTSTART;TZID=UTC:20271210T131500
DTEND;TZID=UTC:20271215T021744
DTSTAMP:20260424T040448
CREATED:20241204T021744Z
LAST-MODIFIED:20251020T021634Z
UID:10000695-1828444500-1828837064@centrebadr.net
SUMMARY:JUMU'AH 3- بالعربية
DESCRIPTION:
URL:https://centrebadr.net/event/jumuah-2-%d8%a8%d8%a7%d9%84%d8%b9%d8%b1%d8%a8%d9%8a%d8%a9/2027-12-10/
LOCATION:Salle Mirage\, 8604 boulevard Langelier\, Saint-Léonard\, QC\, H1P 2Y7\, Canada
CATEGORIES:eventsList
ATTACH;FMTTYPE=image/jpeg:https://centrebadr.net/wp-content/uploads/2024/11/Panorama-salle-rouge-scaled.jpg
ORGANIZER;CN="Centre Islamique Badr":MAILTO:info@centrebadr.net
END:VEVENT
BEGIN:VEVENT
DTSTART;TZID=America/Toronto:20271210T180000
DTEND;TZID=America/Toronto:20271210T193000
DTSTAMP:20260424T040448
CREATED:20241204T035058Z
LAST-MODIFIED:20241204T040518Z
UID:10001742-1828461600-1828467000@centrebadr.net
SUMMARY:Mes premiers pas vers la Foi- Dr.Mohamed Aziz Chraibi
DESCRIPTION:
URL:https://centrebadr.net/event/mes-premiers-pas-vers-la-foi/2027-12-10/
LOCATION:Salle Mirage\, 8604 boulevard Langelier\, Saint-Léonard\, QC\, H1P 2Y7\, Canada
CATEGORIES:eventsList
ATTACH;FMTTYPE=image/jpeg:https://centrebadr.net/wp-content/uploads/2024/12/mes-premiers-pas-vers-la-foi.jpg
ORGANIZER;CN="Centre Islamique Badr":MAILTO:info@centrebadr.net
END:VEVENT
BEGIN:VEVENT
DTSTART;TZID=America/Toronto:20271212T123500
DTEND;TZID=America/Toronto:20271212T125500
DTSTAMP:20260424T040448
CREATED:20251020T023155Z
LAST-MODIFIED:20251020T024510Z
UID:10003374-1828614900-1828616100@centrebadr.net
SUMMARY:JUMU'AH 2 – Pour les jeunes du secondaire
DESCRIPTION:3
URL:https://centrebadr.net/event/jumuah-2-pour-les-jeunes-du-secondaire/2027-12-12/
LOCATION:Mosquée Badr\, 8625 Boulevard Langelier\, Saint-Léonard\, QC\, H1P 2C6\, Canada
CATEGORIES:eventsList
ORGANIZER;CN="Centre Islamique Badr":MAILTO:info@centrebadr.net
END:VEVENT
BEGIN:VEVENT
DTSTART;TZID=UTC:20271217T120000
DTEND;TZID=UTC:20271217T120000
DTSTAMP:20260424T040448
CREATED:20170713T124812Z
LAST-MODIFIED:20241204T031740Z
UID:10000173-1829044800-1829044800@centrebadr.net
SUMMARY:JUMU'AH 1- Français
DESCRIPTION:
URL:https://centrebadr.net/event/friday-prayer/2027-12-17/
LOCATION:Salle Mirage\, 8604 boulevard Langelier\, Saint-Léonard\, QC\, H1P 2Y7\, Canada
CATEGORIES:eventsList
ATTACH;FMTTYPE=image/jpeg:https://centrebadr.net/wp-content/uploads/2024/11/DSC09177-Pano-copy.jpg
ORGANIZER;CN="Centre Islamique Badr":MAILTO:info@centrebadr.net
END:VEVENT
BEGIN:VEVENT
DTSTART;TZID=America/Toronto:20271217T123500
DTEND;TZID=America/Toronto:20271217T125500
DTSTAMP:20260424T040448
CREATED:20251020T023155Z
LAST-MODIFIED:20251020T024510Z
UID:10003375-1829046900-1829048100@centrebadr.net
SUMMARY:JUMU'AH 2 – Pour les jeunes du secondaire
DESCRIPTION:3
URL:https://centrebadr.net/event/jumuah-2-pour-les-jeunes-du-secondaire/2027-12-17/
LOCATION:Mosquée Badr\, 8625 Boulevard Langelier\, Saint-Léonard\, QC\, H1P 2C6\, Canada
CATEGORIES:eventsList
ORGANIZER;CN="Centre Islamique Badr":MAILTO:info@centrebadr.net
END:VEVENT
BEGIN:VEVENT
DTSTART;TZID=UTC:20271217T131500
DTEND;TZID=UTC:20271222T021744
DTSTAMP:20260424T040448
CREATED:20241204T021744Z
LAST-MODIFIED:20251020T021634Z
UID:10000696-1829049300-1829441864@centrebadr.net
SUMMARY:JUMU'AH 3- بالعربية
DESCRIPTION:
URL:https://centrebadr.net/event/jumuah-2-%d8%a8%d8%a7%d9%84%d8%b9%d8%b1%d8%a8%d9%8a%d8%a9/2027-12-17/
LOCATION:Salle Mirage\, 8604 boulevard Langelier\, Saint-Léonard\, QC\, H1P 2Y7\, Canada
CATEGORIES:eventsList
ATTACH;FMTTYPE=image/jpeg:https://centrebadr.net/wp-content/uploads/2024/11/Panorama-salle-rouge-scaled.jpg
ORGANIZER;CN="Centre Islamique Badr":MAILTO:info@centrebadr.net
END:VEVENT
BEGIN:VEVENT
DTSTART;TZID=America/Toronto:20271217T180000
DTEND;TZID=America/Toronto:20271217T193000
DTSTAMP:20260424T040448
CREATED:20241204T035058Z
LAST-MODIFIED:20241204T040518Z
UID:10001743-1829066400-1829071800@centrebadr.net
SUMMARY:Mes premiers pas vers la Foi- Dr.Mohamed Aziz Chraibi
DESCRIPTION:
URL:https://centrebadr.net/event/mes-premiers-pas-vers-la-foi/2027-12-17/
LOCATION:Salle Mirage\, 8604 boulevard Langelier\, Saint-Léonard\, QC\, H1P 2Y7\, Canada
CATEGORIES:eventsList
ATTACH;FMTTYPE=image/jpeg:https://centrebadr.net/wp-content/uploads/2024/12/mes-premiers-pas-vers-la-foi.jpg
ORGANIZER;CN="Centre Islamique Badr":MAILTO:info@centrebadr.net
END:VEVENT
BEGIN:VEVENT
DTSTART;TZID=America/Toronto:20271219T123500
DTEND;TZID=America/Toronto:20271219T125500
DTSTAMP:20260424T040448
CREATED:20251020T023155Z
LAST-MODIFIED:20251020T024510Z
UID:10003376-1829219700-1829220900@centrebadr.net
SUMMARY:JUMU'AH 2 – Pour les jeunes du secondaire
DESCRIPTION:3
URL:https://centrebadr.net/event/jumuah-2-pour-les-jeunes-du-secondaire/2027-12-19/
LOCATION:Mosquée Badr\, 8625 Boulevard Langelier\, Saint-Léonard\, QC\, H1P 2C6\, Canada
CATEGORIES:eventsList
ORGANIZER;CN="Centre Islamique Badr":MAILTO:info@centrebadr.net
END:VEVENT
BEGIN:VEVENT
DTSTART;TZID=UTC:20271224T120000
DTEND;TZID=UTC:20271224T120000
DTSTAMP:20260424T040448
CREATED:20170713T124812Z
LAST-MODIFIED:20241204T031740Z
UID:10000174-1829649600-1829649600@centrebadr.net
SUMMARY:JUMU'AH 1- Français
DESCRIPTION:
URL:https://centrebadr.net/event/friday-prayer/2027-12-24/
LOCATION:Salle Mirage\, 8604 boulevard Langelier\, Saint-Léonard\, QC\, H1P 2Y7\, Canada
CATEGORIES:eventsList
ATTACH;FMTTYPE=image/jpeg:https://centrebadr.net/wp-content/uploads/2024/11/DSC09177-Pano-copy.jpg
ORGANIZER;CN="Centre Islamique Badr":MAILTO:info@centrebadr.net
END:VEVENT
BEGIN:VEVENT
DTSTART;TZID=America/Toronto:20271224T123500
DTEND;TZID=America/Toronto:20271224T125500
DTSTAMP:20260424T040448
CREATED:20251020T023155Z
LAST-MODIFIED:20251020T024510Z
UID:10003377-1829651700-1829652900@centrebadr.net
SUMMARY:JUMU'AH 2 – Pour les jeunes du secondaire
DESCRIPTION:3
URL:https://centrebadr.net/event/jumuah-2-pour-les-jeunes-du-secondaire/2027-12-24/
LOCATION:Mosquée Badr\, 8625 Boulevard Langelier\, Saint-Léonard\, QC\, H1P 2C6\, Canada
CATEGORIES:eventsList
ORGANIZER;CN="Centre Islamique Badr":MAILTO:info@centrebadr.net
END:VEVENT
BEGIN:VEVENT
DTSTART;TZID=UTC:20271224T131500
DTEND;TZID=UTC:20271229T021744
DTSTAMP:20260424T040448
CREATED:20241204T021744Z
LAST-MODIFIED:20251020T021634Z
UID:10000697-1829654100-1830046664@centrebadr.net
SUMMARY:JUMU'AH 3- بالعربية
DESCRIPTION:
URL:https://centrebadr.net/event/jumuah-2-%d8%a8%d8%a7%d9%84%d8%b9%d8%b1%d8%a8%d9%8a%d8%a9/2027-12-24/
LOCATION:Salle Mirage\, 8604 boulevard Langelier\, Saint-Léonard\, QC\, H1P 2Y7\, Canada
CATEGORIES:eventsList
ATTACH;FMTTYPE=image/jpeg:https://centrebadr.net/wp-content/uploads/2024/11/Panorama-salle-rouge-scaled.jpg
ORGANIZER;CN="Centre Islamique Badr":MAILTO:info@centrebadr.net
END:VEVENT
BEGIN:VEVENT
DTSTART;TZID=America/Toronto:20271224T180000
DTEND;TZID=America/Toronto:20271224T193000
DTSTAMP:20260424T040448
CREATED:20241204T035058Z
LAST-MODIFIED:20241204T040518Z
UID:10001744-1829671200-1829676600@centrebadr.net
SUMMARY:Mes premiers pas vers la Foi- Dr.Mohamed Aziz Chraibi
DESCRIPTION:
URL:https://centrebadr.net/event/mes-premiers-pas-vers-la-foi/2027-12-24/
LOCATION:Salle Mirage\, 8604 boulevard Langelier\, Saint-Léonard\, QC\, H1P 2Y7\, Canada
CATEGORIES:eventsList
ATTACH;FMTTYPE=image/jpeg:https://centrebadr.net/wp-content/uploads/2024/12/mes-premiers-pas-vers-la-foi.jpg
ORGANIZER;CN="Centre Islamique Badr":MAILTO:info@centrebadr.net
END:VEVENT
BEGIN:VEVENT
DTSTART;TZID=America/Toronto:20271226T123500
DTEND;TZID=America/Toronto:20271226T125500
DTSTAMP:20260424T040448
CREATED:20251020T023155Z
LAST-MODIFIED:20251020T024510Z
UID:10003378-1829824500-1829825700@centrebadr.net
SUMMARY:JUMU'AH 2 – Pour les jeunes du secondaire
DESCRIPTION:3
URL:https://centrebadr.net/event/jumuah-2-pour-les-jeunes-du-secondaire/2027-12-26/
LOCATION:Mosquée Badr\, 8625 Boulevard Langelier\, Saint-Léonard\, QC\, H1P 2C6\, Canada
CATEGORIES:eventsList
ORGANIZER;CN="Centre Islamique Badr":MAILTO:info@centrebadr.net
END:VEVENT
BEGIN:VEVENT
DTSTART;TZID=UTC:20271231T120000
DTEND;TZID=UTC:20271231T120000
DTSTAMP:20260424T040448
CREATED:20170713T124812Z
LAST-MODIFIED:20241204T031740Z
UID:10000175-1830254400-1830254400@centrebadr.net
SUMMARY:JUMU'AH 1- Français
DESCRIPTION:
URL:https://centrebadr.net/event/friday-prayer/2027-12-31/
LOCATION:Salle Mirage\, 8604 boulevard Langelier\, Saint-Léonard\, QC\, H1P 2Y7\, Canada
CATEGORIES:eventsList
ATTACH;FMTTYPE=image/jpeg:https://centrebadr.net/wp-content/uploads/2024/11/DSC09177-Pano-copy.jpg
ORGANIZER;CN="Centre Islamique Badr":MAILTO:info@centrebadr.net
END:VEVENT
BEGIN:VEVENT
DTSTART;TZID=America/Toronto:20271231T123500
DTEND;TZID=America/Toronto:20271231T125500
DTSTAMP:20260424T040448
CREATED:20251020T023155Z
LAST-MODIFIED:20251020T024510Z
UID:10003379-1830256500-1830257700@centrebadr.net
SUMMARY:JUMU'AH 2 – Pour les jeunes du secondaire
DESCRIPTION:3
URL:https://centrebadr.net/event/jumuah-2-pour-les-jeunes-du-secondaire/2027-12-31/
LOCATION:Mosquée Badr\, 8625 Boulevard Langelier\, Saint-Léonard\, QC\, H1P 2C6\, Canada
CATEGORIES:eventsList
ORGANIZER;CN="Centre Islamique Badr":MAILTO:info@centrebadr.net
END:VEVENT
BEGIN:VEVENT
DTSTART;TZID=UTC:20271231T131500
DTEND;TZID=UTC:20280105T021744
DTSTAMP:20260424T040448
CREATED:20241204T021744Z
LAST-MODIFIED:20251020T021634Z
UID:10000698-1830258900-1830651464@centrebadr.net
SUMMARY:JUMU'AH 3- بالعربية
DESCRIPTION:
URL:https://centrebadr.net/event/jumuah-2-%d8%a8%d8%a7%d9%84%d8%b9%d8%b1%d8%a8%d9%8a%d8%a9/2027-12-31/
LOCATION:Salle Mirage\, 8604 boulevard Langelier\, Saint-Léonard\, QC\, H1P 2Y7\, Canada
CATEGORIES:eventsList
ATTACH;FMTTYPE=image/jpeg:https://centrebadr.net/wp-content/uploads/2024/11/Panorama-salle-rouge-scaled.jpg
ORGANIZER;CN="Centre Islamique Badr":MAILTO:info@centrebadr.net
END:VEVENT
BEGIN:VEVENT
DTSTART;TZID=America/Toronto:20271231T180000
DTEND;TZID=America/Toronto:20271231T193000
DTSTAMP:20260424T040448
CREATED:20241204T035058Z
LAST-MODIFIED:20241204T040518Z
UID:10001745-1830276000-1830281400@centrebadr.net
SUMMARY:Mes premiers pas vers la Foi- Dr.Mohamed Aziz Chraibi
DESCRIPTION:
URL:https://centrebadr.net/event/mes-premiers-pas-vers-la-foi/2027-12-31/
LOCATION:Salle Mirage\, 8604 boulevard Langelier\, Saint-Léonard\, QC\, H1P 2Y7\, Canada
CATEGORIES:eventsList
ATTACH;FMTTYPE=image/jpeg:https://centrebadr.net/wp-content/uploads/2024/12/mes-premiers-pas-vers-la-foi.jpg
ORGANIZER;CN="Centre Islamique Badr":MAILTO:info@centrebadr.net
END:VEVENT
END:VCALENDAR