BEGIN:VCALENDAR
VERSION:2.0
PRODID:-//Centre Islamique Badr - ECPv6.8.2.1//NONSGML v1.0//EN
CALSCALE:GREGORIAN
METHOD:PUBLISH
X-WR-CALNAME:Centre Islamique Badr
X-ORIGINAL-URL:https://centrebadr.net
X-WR-CALDESC:Évènements pour Centre Islamique Badr
REFRESH-INTERVAL;VALUE=DURATION:PT1H
X-Robots-Tag:noindex
X-PUBLISHED-TTL:PT1H
BEGIN:VTIMEZONE
TZID:UTC
BEGIN:STANDARD
TZOFFSETFROM:+0000
TZOFFSETTO:+0000
TZNAME:UTC
DTSTART:20290101T000000
END:STANDARD
END:VTIMEZONE
BEGIN:VEVENT
DTSTART;TZID=UTC:20290126T131500
DTEND;TZID=UTC:20290131T021744
DTSTAMP:20260422T150142
CREATED:20241204T021744Z
LAST-MODIFIED:20251020T021634Z
UID:10000754-1864127700-1864520264@centrebadr.net
SUMMARY:JUMU'AH 3- بالعربية
DESCRIPTION:
URL:https://centrebadr.net/event/jumuah-2-%d8%a8%d8%a7%d9%84%d8%b9%d8%b1%d8%a8%d9%8a%d8%a9/2029-01-26/
LOCATION:Salle Mirage\, 8604 boulevard Langelier\, Saint-Léonard\, QC\, H1P 2Y7\, Canada
CATEGORIES:eventsList
ATTACH;FMTTYPE=image/jpeg:https://centrebadr.net/wp-content/uploads/2024/11/Panorama-salle-rouge-scaled.jpg
ORGANIZER;CN="Centre Islamique Badr":MAILTO:info@centrebadr.net
END:VEVENT
BEGIN:VEVENT
DTSTART;TZID=UTC:20290202T131500
DTEND;TZID=UTC:20290207T021744
DTSTAMP:20260422T150142
CREATED:20241204T021744Z
LAST-MODIFIED:20251020T021634Z
UID:10000755-1864732500-1865125064@centrebadr.net
SUMMARY:JUMU'AH 3- بالعربية
DESCRIPTION:
URL:https://centrebadr.net/event/jumuah-2-%d8%a8%d8%a7%d9%84%d8%b9%d8%b1%d8%a8%d9%8a%d8%a9/2029-02-02/
LOCATION:Salle Mirage\, 8604 boulevard Langelier\, Saint-Léonard\, QC\, H1P 2Y7\, Canada
CATEGORIES:eventsList
ATTACH;FMTTYPE=image/jpeg:https://centrebadr.net/wp-content/uploads/2024/11/Panorama-salle-rouge-scaled.jpg
ORGANIZER;CN="Centre Islamique Badr":MAILTO:info@centrebadr.net
END:VEVENT
BEGIN:VEVENT
DTSTART;TZID=UTC:20290209T131500
DTEND;TZID=UTC:20290214T021744
DTSTAMP:20260422T150142
CREATED:20241204T021744Z
LAST-MODIFIED:20251020T021634Z
UID:10000756-1865337300-1865729864@centrebadr.net
SUMMARY:JUMU'AH 3- بالعربية
DESCRIPTION:
URL:https://centrebadr.net/event/jumuah-2-%d8%a8%d8%a7%d9%84%d8%b9%d8%b1%d8%a8%d9%8a%d8%a9/2029-02-09/
LOCATION:Salle Mirage\, 8604 boulevard Langelier\, Saint-Léonard\, QC\, H1P 2Y7\, Canada
CATEGORIES:eventsList
ATTACH;FMTTYPE=image/jpeg:https://centrebadr.net/wp-content/uploads/2024/11/Panorama-salle-rouge-scaled.jpg
ORGANIZER;CN="Centre Islamique Badr":MAILTO:info@centrebadr.net
END:VEVENT
BEGIN:VEVENT
DTSTART;TZID=UTC:20290216T131500
DTEND;TZID=UTC:20290221T021744
DTSTAMP:20260422T150142
CREATED:20241204T021744Z
LAST-MODIFIED:20251020T021634Z
UID:10000757-1865942100-1866334664@centrebadr.net
SUMMARY:JUMU'AH 3- بالعربية
DESCRIPTION:
URL:https://centrebadr.net/event/jumuah-2-%d8%a8%d8%a7%d9%84%d8%b9%d8%b1%d8%a8%d9%8a%d8%a9/2029-02-16/
LOCATION:Salle Mirage\, 8604 boulevard Langelier\, Saint-Léonard\, QC\, H1P 2Y7\, Canada
CATEGORIES:eventsList
ATTACH;FMTTYPE=image/jpeg:https://centrebadr.net/wp-content/uploads/2024/11/Panorama-salle-rouge-scaled.jpg
ORGANIZER;CN="Centre Islamique Badr":MAILTO:info@centrebadr.net
END:VEVENT
BEGIN:VEVENT
DTSTART;TZID=UTC:20290223T131500
DTEND;TZID=UTC:20290228T021744
DTSTAMP:20260422T150142
CREATED:20241204T021744Z
LAST-MODIFIED:20251020T021634Z
UID:10000758-1866546900-1866939464@centrebadr.net
SUMMARY:JUMU'AH 3- بالعربية
DESCRIPTION:
URL:https://centrebadr.net/event/jumuah-2-%d8%a8%d8%a7%d9%84%d8%b9%d8%b1%d8%a8%d9%8a%d8%a9/2029-02-23/
LOCATION:Salle Mirage\, 8604 boulevard Langelier\, Saint-Léonard\, QC\, H1P 2Y7\, Canada
CATEGORIES:eventsList
ATTACH;FMTTYPE=image/jpeg:https://centrebadr.net/wp-content/uploads/2024/11/Panorama-salle-rouge-scaled.jpg
ORGANIZER;CN="Centre Islamique Badr":MAILTO:info@centrebadr.net
END:VEVENT
BEGIN:VEVENT
DTSTART;TZID=UTC:20290302T131500
DTEND;TZID=UTC:20290307T021744
DTSTAMP:20260422T150142
CREATED:20241204T021744Z
LAST-MODIFIED:20251020T021634Z
UID:10000759-1867151700-1867544264@centrebadr.net
SUMMARY:JUMU'AH 3- بالعربية
DESCRIPTION:
URL:https://centrebadr.net/event/jumuah-2-%d8%a8%d8%a7%d9%84%d8%b9%d8%b1%d8%a8%d9%8a%d8%a9/2029-03-02/
LOCATION:Salle Mirage\, 8604 boulevard Langelier\, Saint-Léonard\, QC\, H1P 2Y7\, Canada
CATEGORIES:eventsList
ATTACH;FMTTYPE=image/jpeg:https://centrebadr.net/wp-content/uploads/2024/11/Panorama-salle-rouge-scaled.jpg
ORGANIZER;CN="Centre Islamique Badr":MAILTO:info@centrebadr.net
END:VEVENT
BEGIN:VEVENT
DTSTART;TZID=UTC:20290309T131500
DTEND;TZID=UTC:20290314T021744
DTSTAMP:20260422T150142
CREATED:20241204T021744Z
LAST-MODIFIED:20251020T021634Z
UID:10000760-1867756500-1868149064@centrebadr.net
SUMMARY:JUMU'AH 3- بالعربية
DESCRIPTION:
URL:https://centrebadr.net/event/jumuah-2-%d8%a8%d8%a7%d9%84%d8%b9%d8%b1%d8%a8%d9%8a%d8%a9/2029-03-09/
LOCATION:Salle Mirage\, 8604 boulevard Langelier\, Saint-Léonard\, QC\, H1P 2Y7\, Canada
CATEGORIES:eventsList
ATTACH;FMTTYPE=image/jpeg:https://centrebadr.net/wp-content/uploads/2024/11/Panorama-salle-rouge-scaled.jpg
ORGANIZER;CN="Centre Islamique Badr":MAILTO:info@centrebadr.net
END:VEVENT
BEGIN:VEVENT
DTSTART;TZID=UTC:20290316T131500
DTEND;TZID=UTC:20290321T021744
DTSTAMP:20260422T150142
CREATED:20241204T021744Z
LAST-MODIFIED:20251020T021634Z
UID:10000761-1868361300-1868753864@centrebadr.net
SUMMARY:JUMU'AH 3- بالعربية
DESCRIPTION:
URL:https://centrebadr.net/event/jumuah-2-%d8%a8%d8%a7%d9%84%d8%b9%d8%b1%d8%a8%d9%8a%d8%a9/2029-03-16/
LOCATION:Salle Mirage\, 8604 boulevard Langelier\, Saint-Léonard\, QC\, H1P 2Y7\, Canada
CATEGORIES:eventsList
ATTACH;FMTTYPE=image/jpeg:https://centrebadr.net/wp-content/uploads/2024/11/Panorama-salle-rouge-scaled.jpg
ORGANIZER;CN="Centre Islamique Badr":MAILTO:info@centrebadr.net
END:VEVENT
BEGIN:VEVENT
DTSTART;TZID=UTC:20290323T131500
DTEND;TZID=UTC:20290328T021744
DTSTAMP:20260422T150142
CREATED:20241204T021744Z
LAST-MODIFIED:20251020T021634Z
UID:10000762-1868966100-1869358664@centrebadr.net
SUMMARY:JUMU'AH 3- بالعربية
DESCRIPTION:
URL:https://centrebadr.net/event/jumuah-2-%d8%a8%d8%a7%d9%84%d8%b9%d8%b1%d8%a8%d9%8a%d8%a9/2029-03-23/
LOCATION:Salle Mirage\, 8604 boulevard Langelier\, Saint-Léonard\, QC\, H1P 2Y7\, Canada
CATEGORIES:eventsList
ATTACH;FMTTYPE=image/jpeg:https://centrebadr.net/wp-content/uploads/2024/11/Panorama-salle-rouge-scaled.jpg
ORGANIZER;CN="Centre Islamique Badr":MAILTO:info@centrebadr.net
END:VEVENT
BEGIN:VEVENT
DTSTART;TZID=UTC:20290330T131500
DTEND;TZID=UTC:20290404T021744
DTSTAMP:20260422T150142
CREATED:20241204T021744Z
LAST-MODIFIED:20251020T021634Z
UID:10000763-1869570900-1869963464@centrebadr.net
SUMMARY:JUMU'AH 3- بالعربية
DESCRIPTION:
URL:https://centrebadr.net/event/jumuah-2-%d8%a8%d8%a7%d9%84%d8%b9%d8%b1%d8%a8%d9%8a%d8%a9/2029-03-30/
LOCATION:Salle Mirage\, 8604 boulevard Langelier\, Saint-Léonard\, QC\, H1P 2Y7\, Canada
CATEGORIES:eventsList
ATTACH;FMTTYPE=image/jpeg:https://centrebadr.net/wp-content/uploads/2024/11/Panorama-salle-rouge-scaled.jpg
ORGANIZER;CN="Centre Islamique Badr":MAILTO:info@centrebadr.net
END:VEVENT
BEGIN:VEVENT
DTSTART;TZID=UTC:20290406T131500
DTEND;TZID=UTC:20290411T021744
DTSTAMP:20260422T150142
CREATED:20241204T021744Z
LAST-MODIFIED:20251020T021634Z
UID:10000764-1870175700-1870568264@centrebadr.net
SUMMARY:JUMU'AH 3- بالعربية
DESCRIPTION:
URL:https://centrebadr.net/event/jumuah-2-%d8%a8%d8%a7%d9%84%d8%b9%d8%b1%d8%a8%d9%8a%d8%a9/2029-04-06/
LOCATION:Salle Mirage\, 8604 boulevard Langelier\, Saint-Léonard\, QC\, H1P 2Y7\, Canada
CATEGORIES:eventsList
ATTACH;FMTTYPE=image/jpeg:https://centrebadr.net/wp-content/uploads/2024/11/Panorama-salle-rouge-scaled.jpg
ORGANIZER;CN="Centre Islamique Badr":MAILTO:info@centrebadr.net
END:VEVENT
BEGIN:VEVENT
DTSTART;TZID=UTC:20290413T131500
DTEND;TZID=UTC:20290418T021744
DTSTAMP:20260422T150142
CREATED:20241204T021744Z
LAST-MODIFIED:20251020T021634Z
UID:10000765-1870780500-1871173064@centrebadr.net
SUMMARY:JUMU'AH 3- بالعربية
DESCRIPTION:
URL:https://centrebadr.net/event/jumuah-2-%d8%a8%d8%a7%d9%84%d8%b9%d8%b1%d8%a8%d9%8a%d8%a9/2029-04-13/
LOCATION:Salle Mirage\, 8604 boulevard Langelier\, Saint-Léonard\, QC\, H1P 2Y7\, Canada
CATEGORIES:eventsList
ATTACH;FMTTYPE=image/jpeg:https://centrebadr.net/wp-content/uploads/2024/11/Panorama-salle-rouge-scaled.jpg
ORGANIZER;CN="Centre Islamique Badr":MAILTO:info@centrebadr.net
END:VEVENT
BEGIN:VEVENT
DTSTART;TZID=UTC:20290420T131500
DTEND;TZID=UTC:20290425T021744
DTSTAMP:20260422T150142
CREATED:20241204T021744Z
LAST-MODIFIED:20251020T021634Z
UID:10000766-1871385300-1871777864@centrebadr.net
SUMMARY:JUMU'AH 3- بالعربية
DESCRIPTION:
URL:https://centrebadr.net/event/jumuah-2-%d8%a8%d8%a7%d9%84%d8%b9%d8%b1%d8%a8%d9%8a%d8%a9/2029-04-20/
LOCATION:Salle Mirage\, 8604 boulevard Langelier\, Saint-Léonard\, QC\, H1P 2Y7\, Canada
CATEGORIES:eventsList
ATTACH;FMTTYPE=image/jpeg:https://centrebadr.net/wp-content/uploads/2024/11/Panorama-salle-rouge-scaled.jpg
ORGANIZER;CN="Centre Islamique Badr":MAILTO:info@centrebadr.net
END:VEVENT
BEGIN:VEVENT
DTSTART;TZID=UTC:20290427T131500
DTEND;TZID=UTC:20290502T021744
DTSTAMP:20260422T150142
CREATED:20241204T021744Z
LAST-MODIFIED:20251020T021634Z
UID:10000767-1871990100-1872382664@centrebadr.net
SUMMARY:JUMU'AH 3- بالعربية
DESCRIPTION:
URL:https://centrebadr.net/event/jumuah-2-%d8%a8%d8%a7%d9%84%d8%b9%d8%b1%d8%a8%d9%8a%d8%a9/2029-04-27/
LOCATION:Salle Mirage\, 8604 boulevard Langelier\, Saint-Léonard\, QC\, H1P 2Y7\, Canada
CATEGORIES:eventsList
ATTACH;FMTTYPE=image/jpeg:https://centrebadr.net/wp-content/uploads/2024/11/Panorama-salle-rouge-scaled.jpg
ORGANIZER;CN="Centre Islamique Badr":MAILTO:info@centrebadr.net
END:VEVENT
BEGIN:VEVENT
DTSTART;TZID=UTC:20290504T131500
DTEND;TZID=UTC:20290509T021744
DTSTAMP:20260422T150142
CREATED:20241204T021744Z
LAST-MODIFIED:20251020T021634Z
UID:10000768-1872594900-1872987464@centrebadr.net
SUMMARY:JUMU'AH 3- بالعربية
DESCRIPTION:
URL:https://centrebadr.net/event/jumuah-2-%d8%a8%d8%a7%d9%84%d8%b9%d8%b1%d8%a8%d9%8a%d8%a9/2029-05-04/
LOCATION:Salle Mirage\, 8604 boulevard Langelier\, Saint-Léonard\, QC\, H1P 2Y7\, Canada
CATEGORIES:eventsList
ATTACH;FMTTYPE=image/jpeg:https://centrebadr.net/wp-content/uploads/2024/11/Panorama-salle-rouge-scaled.jpg
ORGANIZER;CN="Centre Islamique Badr":MAILTO:info@centrebadr.net
END:VEVENT
BEGIN:VEVENT
DTSTART;TZID=UTC:20290511T131500
DTEND;TZID=UTC:20290516T021744
DTSTAMP:20260422T150142
CREATED:20241204T021744Z
LAST-MODIFIED:20251020T021634Z
UID:10000769-1873199700-1873592264@centrebadr.net
SUMMARY:JUMU'AH 3- بالعربية
DESCRIPTION:
URL:https://centrebadr.net/event/jumuah-2-%d8%a8%d8%a7%d9%84%d8%b9%d8%b1%d8%a8%d9%8a%d8%a9/2029-05-11/
LOCATION:Salle Mirage\, 8604 boulevard Langelier\, Saint-Léonard\, QC\, H1P 2Y7\, Canada
CATEGORIES:eventsList
ATTACH;FMTTYPE=image/jpeg:https://centrebadr.net/wp-content/uploads/2024/11/Panorama-salle-rouge-scaled.jpg
ORGANIZER;CN="Centre Islamique Badr":MAILTO:info@centrebadr.net
END:VEVENT
BEGIN:VEVENT
DTSTART;TZID=UTC:20290518T131500
DTEND;TZID=UTC:20290523T021744
DTSTAMP:20260422T150142
CREATED:20241204T021744Z
LAST-MODIFIED:20251020T021634Z
UID:10000770-1873804500-1874197064@centrebadr.net
SUMMARY:JUMU'AH 3- بالعربية
DESCRIPTION:
URL:https://centrebadr.net/event/jumuah-2-%d8%a8%d8%a7%d9%84%d8%b9%d8%b1%d8%a8%d9%8a%d8%a9/2029-05-18/
LOCATION:Salle Mirage\, 8604 boulevard Langelier\, Saint-Léonard\, QC\, H1P 2Y7\, Canada
CATEGORIES:eventsList
ATTACH;FMTTYPE=image/jpeg:https://centrebadr.net/wp-content/uploads/2024/11/Panorama-salle-rouge-scaled.jpg
ORGANIZER;CN="Centre Islamique Badr":MAILTO:info@centrebadr.net
END:VEVENT
BEGIN:VEVENT
DTSTART;TZID=UTC:20290525T131500
DTEND;TZID=UTC:20290530T021744
DTSTAMP:20260422T150142
CREATED:20241204T021744Z
LAST-MODIFIED:20251020T021634Z
UID:10000771-1874409300-1874801864@centrebadr.net
SUMMARY:JUMU'AH 3- بالعربية
DESCRIPTION:
URL:https://centrebadr.net/event/jumuah-2-%d8%a8%d8%a7%d9%84%d8%b9%d8%b1%d8%a8%d9%8a%d8%a9/2029-05-25/
LOCATION:Salle Mirage\, 8604 boulevard Langelier\, Saint-Léonard\, QC\, H1P 2Y7\, Canada
CATEGORIES:eventsList
ATTACH;FMTTYPE=image/jpeg:https://centrebadr.net/wp-content/uploads/2024/11/Panorama-salle-rouge-scaled.jpg
ORGANIZER;CN="Centre Islamique Badr":MAILTO:info@centrebadr.net
END:VEVENT
BEGIN:VEVENT
DTSTART;TZID=UTC:20290601T131500
DTEND;TZID=UTC:20290606T021744
DTSTAMP:20260422T150142
CREATED:20241204T021744Z
LAST-MODIFIED:20251020T021634Z
UID:10000772-1875014100-1875406664@centrebadr.net
SUMMARY:JUMU'AH 3- بالعربية
DESCRIPTION:
URL:https://centrebadr.net/event/jumuah-2-%d8%a8%d8%a7%d9%84%d8%b9%d8%b1%d8%a8%d9%8a%d8%a9/2029-06-01/
LOCATION:Salle Mirage\, 8604 boulevard Langelier\, Saint-Léonard\, QC\, H1P 2Y7\, Canada
CATEGORIES:eventsList
ATTACH;FMTTYPE=image/jpeg:https://centrebadr.net/wp-content/uploads/2024/11/Panorama-salle-rouge-scaled.jpg
ORGANIZER;CN="Centre Islamique Badr":MAILTO:info@centrebadr.net
END:VEVENT
BEGIN:VEVENT
DTSTART;TZID=UTC:20290608T131500
DTEND;TZID=UTC:20290613T021744
DTSTAMP:20260422T150142
CREATED:20241204T021744Z
LAST-MODIFIED:20251020T021634Z
UID:10000773-1875618900-1876011464@centrebadr.net
SUMMARY:JUMU'AH 3- بالعربية
DESCRIPTION:
URL:https://centrebadr.net/event/jumuah-2-%d8%a8%d8%a7%d9%84%d8%b9%d8%b1%d8%a8%d9%8a%d8%a9/2029-06-08/
LOCATION:Salle Mirage\, 8604 boulevard Langelier\, Saint-Léonard\, QC\, H1P 2Y7\, Canada
CATEGORIES:eventsList
ATTACH;FMTTYPE=image/jpeg:https://centrebadr.net/wp-content/uploads/2024/11/Panorama-salle-rouge-scaled.jpg
ORGANIZER;CN="Centre Islamique Badr":MAILTO:info@centrebadr.net
END:VEVENT
BEGIN:VEVENT
DTSTART;TZID=UTC:20290615T131500
DTEND;TZID=UTC:20290620T021744
DTSTAMP:20260422T150142
CREATED:20241204T021744Z
LAST-MODIFIED:20251020T021634Z
UID:10000774-1876223700-1876616264@centrebadr.net
SUMMARY:JUMU'AH 3- بالعربية
DESCRIPTION:
URL:https://centrebadr.net/event/jumuah-2-%d8%a8%d8%a7%d9%84%d8%b9%d8%b1%d8%a8%d9%8a%d8%a9/2029-06-15/
LOCATION:Salle Mirage\, 8604 boulevard Langelier\, Saint-Léonard\, QC\, H1P 2Y7\, Canada
CATEGORIES:eventsList
ATTACH;FMTTYPE=image/jpeg:https://centrebadr.net/wp-content/uploads/2024/11/Panorama-salle-rouge-scaled.jpg
ORGANIZER;CN="Centre Islamique Badr":MAILTO:info@centrebadr.net
END:VEVENT
BEGIN:VEVENT
DTSTART;TZID=UTC:20290622T131500
DTEND;TZID=UTC:20290627T021744
DTSTAMP:20260422T150142
CREATED:20241204T021744Z
LAST-MODIFIED:20251020T021634Z
UID:10000775-1876828500-1877221064@centrebadr.net
SUMMARY:JUMU'AH 3- بالعربية
DESCRIPTION:
URL:https://centrebadr.net/event/jumuah-2-%d8%a8%d8%a7%d9%84%d8%b9%d8%b1%d8%a8%d9%8a%d8%a9/2029-06-22/
LOCATION:Salle Mirage\, 8604 boulevard Langelier\, Saint-Léonard\, QC\, H1P 2Y7\, Canada
CATEGORIES:eventsList
ATTACH;FMTTYPE=image/jpeg:https://centrebadr.net/wp-content/uploads/2024/11/Panorama-salle-rouge-scaled.jpg
ORGANIZER;CN="Centre Islamique Badr":MAILTO:info@centrebadr.net
END:VEVENT
BEGIN:VEVENT
DTSTART;TZID=UTC:20290629T131500
DTEND;TZID=UTC:20290704T021744
DTSTAMP:20260422T150142
CREATED:20241204T021744Z
LAST-MODIFIED:20251020T021634Z
UID:10000776-1877433300-1877825864@centrebadr.net
SUMMARY:JUMU'AH 3- بالعربية
DESCRIPTION:
URL:https://centrebadr.net/event/jumuah-2-%d8%a8%d8%a7%d9%84%d8%b9%d8%b1%d8%a8%d9%8a%d8%a9/2029-06-29/
LOCATION:Salle Mirage\, 8604 boulevard Langelier\, Saint-Léonard\, QC\, H1P 2Y7\, Canada
CATEGORIES:eventsList
ATTACH;FMTTYPE=image/jpeg:https://centrebadr.net/wp-content/uploads/2024/11/Panorama-salle-rouge-scaled.jpg
ORGANIZER;CN="Centre Islamique Badr":MAILTO:info@centrebadr.net
END:VEVENT
BEGIN:VEVENT
DTSTART;TZID=UTC:20290706T131500
DTEND;TZID=UTC:20290711T021744
DTSTAMP:20260422T150142
CREATED:20241204T021744Z
LAST-MODIFIED:20251020T021634Z
UID:10000777-1878038100-1878430664@centrebadr.net
SUMMARY:JUMU'AH 3- بالعربية
DESCRIPTION:
URL:https://centrebadr.net/event/jumuah-2-%d8%a8%d8%a7%d9%84%d8%b9%d8%b1%d8%a8%d9%8a%d8%a9/2029-07-06/
LOCATION:Salle Mirage\, 8604 boulevard Langelier\, Saint-Léonard\, QC\, H1P 2Y7\, Canada
CATEGORIES:eventsList
ATTACH;FMTTYPE=image/jpeg:https://centrebadr.net/wp-content/uploads/2024/11/Panorama-salle-rouge-scaled.jpg
ORGANIZER;CN="Centre Islamique Badr":MAILTO:info@centrebadr.net
END:VEVENT
BEGIN:VEVENT
DTSTART;TZID=UTC:20290713T131500
DTEND;TZID=UTC:20290718T021744
DTSTAMP:20260422T150142
CREATED:20241204T021744Z
LAST-MODIFIED:20251020T021634Z
UID:10000778-1878642900-1879035464@centrebadr.net
SUMMARY:JUMU'AH 3- بالعربية
DESCRIPTION:
URL:https://centrebadr.net/event/jumuah-2-%d8%a8%d8%a7%d9%84%d8%b9%d8%b1%d8%a8%d9%8a%d8%a9/2029-07-13/
LOCATION:Salle Mirage\, 8604 boulevard Langelier\, Saint-Léonard\, QC\, H1P 2Y7\, Canada
CATEGORIES:eventsList
ATTACH;FMTTYPE=image/jpeg:https://centrebadr.net/wp-content/uploads/2024/11/Panorama-salle-rouge-scaled.jpg
ORGANIZER;CN="Centre Islamique Badr":MAILTO:info@centrebadr.net
END:VEVENT
BEGIN:VEVENT
DTSTART;TZID=UTC:20290720T131500
DTEND;TZID=UTC:20290725T021744
DTSTAMP:20260422T150142
CREATED:20241204T021744Z
LAST-MODIFIED:20251020T021634Z
UID:10000779-1879247700-1879640264@centrebadr.net
SUMMARY:JUMU'AH 3- بالعربية
DESCRIPTION:
URL:https://centrebadr.net/event/jumuah-2-%d8%a8%d8%a7%d9%84%d8%b9%d8%b1%d8%a8%d9%8a%d8%a9/2029-07-20/
LOCATION:Salle Mirage\, 8604 boulevard Langelier\, Saint-Léonard\, QC\, H1P 2Y7\, Canada
CATEGORIES:eventsList
ATTACH;FMTTYPE=image/jpeg:https://centrebadr.net/wp-content/uploads/2024/11/Panorama-salle-rouge-scaled.jpg
ORGANIZER;CN="Centre Islamique Badr":MAILTO:info@centrebadr.net
END:VEVENT
BEGIN:VEVENT
DTSTART;TZID=UTC:20290727T131500
DTEND;TZID=UTC:20290801T021744
DTSTAMP:20260422T150142
CREATED:20241204T021744Z
LAST-MODIFIED:20251020T021634Z
UID:10000780-1879852500-1880245064@centrebadr.net
SUMMARY:JUMU'AH 3- بالعربية
DESCRIPTION:
URL:https://centrebadr.net/event/jumuah-2-%d8%a8%d8%a7%d9%84%d8%b9%d8%b1%d8%a8%d9%8a%d8%a9/2029-07-27/
LOCATION:Salle Mirage\, 8604 boulevard Langelier\, Saint-Léonard\, QC\, H1P 2Y7\, Canada
CATEGORIES:eventsList
ATTACH;FMTTYPE=image/jpeg:https://centrebadr.net/wp-content/uploads/2024/11/Panorama-salle-rouge-scaled.jpg
ORGANIZER;CN="Centre Islamique Badr":MAILTO:info@centrebadr.net
END:VEVENT
BEGIN:VEVENT
DTSTART;TZID=UTC:20290803T131500
DTEND;TZID=UTC:20290808T021744
DTSTAMP:20260422T150142
CREATED:20241204T021744Z
LAST-MODIFIED:20251020T021634Z
UID:10000781-1880457300-1880849864@centrebadr.net
SUMMARY:JUMU'AH 3- بالعربية
DESCRIPTION:
URL:https://centrebadr.net/event/jumuah-2-%d8%a8%d8%a7%d9%84%d8%b9%d8%b1%d8%a8%d9%8a%d8%a9/2029-08-03/
LOCATION:Salle Mirage\, 8604 boulevard Langelier\, Saint-Léonard\, QC\, H1P 2Y7\, Canada
CATEGORIES:eventsList
ATTACH;FMTTYPE=image/jpeg:https://centrebadr.net/wp-content/uploads/2024/11/Panorama-salle-rouge-scaled.jpg
ORGANIZER;CN="Centre Islamique Badr":MAILTO:info@centrebadr.net
END:VEVENT
BEGIN:VEVENT
DTSTART;TZID=UTC:20290810T131500
DTEND;TZID=UTC:20290815T021744
DTSTAMP:20260422T150142
CREATED:20241204T021744Z
LAST-MODIFIED:20251020T021634Z
UID:10000782-1881062100-1881454664@centrebadr.net
SUMMARY:JUMU'AH 3- بالعربية
DESCRIPTION:
URL:https://centrebadr.net/event/jumuah-2-%d8%a8%d8%a7%d9%84%d8%b9%d8%b1%d8%a8%d9%8a%d8%a9/2029-08-10/
LOCATION:Salle Mirage\, 8604 boulevard Langelier\, Saint-Léonard\, QC\, H1P 2Y7\, Canada
CATEGORIES:eventsList
ATTACH;FMTTYPE=image/jpeg:https://centrebadr.net/wp-content/uploads/2024/11/Panorama-salle-rouge-scaled.jpg
ORGANIZER;CN="Centre Islamique Badr":MAILTO:info@centrebadr.net
END:VEVENT
BEGIN:VEVENT
DTSTART;TZID=UTC:20290817T131500
DTEND;TZID=UTC:20290822T021744
DTSTAMP:20260422T150142
CREATED:20241204T021744Z
LAST-MODIFIED:20251020T021634Z
UID:10000783-1881666900-1882059464@centrebadr.net
SUMMARY:JUMU'AH 3- بالعربية
DESCRIPTION:
URL:https://centrebadr.net/event/jumuah-2-%d8%a8%d8%a7%d9%84%d8%b9%d8%b1%d8%a8%d9%8a%d8%a9/2029-08-17/
LOCATION:Salle Mirage\, 8604 boulevard Langelier\, Saint-Léonard\, QC\, H1P 2Y7\, Canada
CATEGORIES:eventsList
ATTACH;FMTTYPE=image/jpeg:https://centrebadr.net/wp-content/uploads/2024/11/Panorama-salle-rouge-scaled.jpg
ORGANIZER;CN="Centre Islamique Badr":MAILTO:info@centrebadr.net
END:VEVENT
END:VCALENDAR