BEGIN:VCALENDAR
VERSION:2.0
PRODID:-//Centre Islamique Badr - ECPv6.8.2.1//NONSGML v1.0//EN
CALSCALE:GREGORIAN
METHOD:PUBLISH
X-WR-CALNAME:Centre Islamique Badr
X-ORIGINAL-URL:https://centrebadr.net
X-WR-CALDESC:Évènements pour Centre Islamique Badr
REFRESH-INTERVAL;VALUE=DURATION:PT1H
X-Robots-Tag:noindex
X-PUBLISHED-TTL:PT1H
BEGIN:VTIMEZONE
TZID:UTC
BEGIN:STANDARD
TZOFFSETFROM:+0000
TZOFFSETTO:+0000
TZNAME:UTC
DTSTART:20290101T000000
END:STANDARD
END:VTIMEZONE
BEGIN:VEVENT
DTSTART;TZID=UTC:20291005T131500
DTEND;TZID=UTC:20291010T021744
DTSTAMP:20260422T195506
CREATED:20241204T021744Z
LAST-MODIFIED:20251020T021634Z
UID:10000790-1885900500-1886293064@centrebadr.net
SUMMARY:JUMU'AH 3- بالعربية
DESCRIPTION:
URL:https://centrebadr.net/event/jumuah-2-%d8%a8%d8%a7%d9%84%d8%b9%d8%b1%d8%a8%d9%8a%d8%a9/2029-10-05/
LOCATION:Salle Mirage\, 8604 boulevard Langelier\, Saint-Léonard\, QC\, H1P 2Y7\, Canada
CATEGORIES:eventsList
ATTACH;FMTTYPE=image/jpeg:https://centrebadr.net/wp-content/uploads/2024/11/Panorama-salle-rouge-scaled.jpg
ORGANIZER;CN="Centre Islamique Badr":MAILTO:info@centrebadr.net
END:VEVENT
BEGIN:VEVENT
DTSTART;TZID=UTC:20291012T131500
DTEND;TZID=UTC:20291017T021744
DTSTAMP:20260422T195506
CREATED:20241204T021744Z
LAST-MODIFIED:20251020T021634Z
UID:10000791-1886505300-1886897864@centrebadr.net
SUMMARY:JUMU'AH 3- بالعربية
DESCRIPTION:
URL:https://centrebadr.net/event/jumuah-2-%d8%a8%d8%a7%d9%84%d8%b9%d8%b1%d8%a8%d9%8a%d8%a9/2029-10-12/
LOCATION:Salle Mirage\, 8604 boulevard Langelier\, Saint-Léonard\, QC\, H1P 2Y7\, Canada
CATEGORIES:eventsList
ATTACH;FMTTYPE=image/jpeg:https://centrebadr.net/wp-content/uploads/2024/11/Panorama-salle-rouge-scaled.jpg
ORGANIZER;CN="Centre Islamique Badr":MAILTO:info@centrebadr.net
END:VEVENT
BEGIN:VEVENT
DTSTART;TZID=UTC:20291019T131500
DTEND;TZID=UTC:20291024T021744
DTSTAMP:20260422T195506
CREATED:20241204T021744Z
LAST-MODIFIED:20251020T021634Z
UID:10000792-1887110100-1887502664@centrebadr.net
SUMMARY:JUMU'AH 3- بالعربية
DESCRIPTION:
URL:https://centrebadr.net/event/jumuah-2-%d8%a8%d8%a7%d9%84%d8%b9%d8%b1%d8%a8%d9%8a%d8%a9/2029-10-19/
LOCATION:Salle Mirage\, 8604 boulevard Langelier\, Saint-Léonard\, QC\, H1P 2Y7\, Canada
CATEGORIES:eventsList
ATTACH;FMTTYPE=image/jpeg:https://centrebadr.net/wp-content/uploads/2024/11/Panorama-salle-rouge-scaled.jpg
ORGANIZER;CN="Centre Islamique Badr":MAILTO:info@centrebadr.net
END:VEVENT
BEGIN:VEVENT
DTSTART;TZID=UTC:20291026T131500
DTEND;TZID=UTC:20291031T021744
DTSTAMP:20260422T195506
CREATED:20241204T021744Z
LAST-MODIFIED:20251020T021634Z
UID:10000793-1887714900-1888107464@centrebadr.net
SUMMARY:JUMU'AH 3- بالعربية
DESCRIPTION:
URL:https://centrebadr.net/event/jumuah-2-%d8%a8%d8%a7%d9%84%d8%b9%d8%b1%d8%a8%d9%8a%d8%a9/2029-10-26/
LOCATION:Salle Mirage\, 8604 boulevard Langelier\, Saint-Léonard\, QC\, H1P 2Y7\, Canada
CATEGORIES:eventsList
ATTACH;FMTTYPE=image/jpeg:https://centrebadr.net/wp-content/uploads/2024/11/Panorama-salle-rouge-scaled.jpg
ORGANIZER;CN="Centre Islamique Badr":MAILTO:info@centrebadr.net
END:VEVENT
BEGIN:VEVENT
DTSTART;TZID=UTC:20291102T131500
DTEND;TZID=UTC:20291107T021744
DTSTAMP:20260422T195506
CREATED:20241204T021744Z
LAST-MODIFIED:20251020T021634Z
UID:10000794-1888319700-1888712264@centrebadr.net
SUMMARY:JUMU'AH 3- بالعربية
DESCRIPTION:
URL:https://centrebadr.net/event/jumuah-2-%d8%a8%d8%a7%d9%84%d8%b9%d8%b1%d8%a8%d9%8a%d8%a9/2029-11-02/
LOCATION:Salle Mirage\, 8604 boulevard Langelier\, Saint-Léonard\, QC\, H1P 2Y7\, Canada
CATEGORIES:eventsList
ATTACH;FMTTYPE=image/jpeg:https://centrebadr.net/wp-content/uploads/2024/11/Panorama-salle-rouge-scaled.jpg
ORGANIZER;CN="Centre Islamique Badr":MAILTO:info@centrebadr.net
END:VEVENT
BEGIN:VEVENT
DTSTART;TZID=UTC:20291109T131500
DTEND;TZID=UTC:20291114T021744
DTSTAMP:20260422T195506
CREATED:20241204T021744Z
LAST-MODIFIED:20251020T021634Z
UID:10000795-1888924500-1889317064@centrebadr.net
SUMMARY:JUMU'AH 3- بالعربية
DESCRIPTION:
URL:https://centrebadr.net/event/jumuah-2-%d8%a8%d8%a7%d9%84%d8%b9%d8%b1%d8%a8%d9%8a%d8%a9/2029-11-09/
LOCATION:Salle Mirage\, 8604 boulevard Langelier\, Saint-Léonard\, QC\, H1P 2Y7\, Canada
CATEGORIES:eventsList
ATTACH;FMTTYPE=image/jpeg:https://centrebadr.net/wp-content/uploads/2024/11/Panorama-salle-rouge-scaled.jpg
ORGANIZER;CN="Centre Islamique Badr":MAILTO:info@centrebadr.net
END:VEVENT
BEGIN:VEVENT
DTSTART;TZID=UTC:20291116T131500
DTEND;TZID=UTC:20291121T021744
DTSTAMP:20260422T195506
CREATED:20241204T021744Z
LAST-MODIFIED:20251020T021634Z
UID:10000796-1889529300-1889921864@centrebadr.net
SUMMARY:JUMU'AH 3- بالعربية
DESCRIPTION:
URL:https://centrebadr.net/event/jumuah-2-%d8%a8%d8%a7%d9%84%d8%b9%d8%b1%d8%a8%d9%8a%d8%a9/2029-11-16/
LOCATION:Salle Mirage\, 8604 boulevard Langelier\, Saint-Léonard\, QC\, H1P 2Y7\, Canada
CATEGORIES:eventsList
ATTACH;FMTTYPE=image/jpeg:https://centrebadr.net/wp-content/uploads/2024/11/Panorama-salle-rouge-scaled.jpg
ORGANIZER;CN="Centre Islamique Badr":MAILTO:info@centrebadr.net
END:VEVENT
BEGIN:VEVENT
DTSTART;TZID=UTC:20291123T131500
DTEND;TZID=UTC:20291128T021744
DTSTAMP:20260422T195506
CREATED:20241204T021744Z
LAST-MODIFIED:20251020T021634Z
UID:10000797-1890134100-1890526664@centrebadr.net
SUMMARY:JUMU'AH 3- بالعربية
DESCRIPTION:
URL:https://centrebadr.net/event/jumuah-2-%d8%a8%d8%a7%d9%84%d8%b9%d8%b1%d8%a8%d9%8a%d8%a9/2029-11-23/
LOCATION:Salle Mirage\, 8604 boulevard Langelier\, Saint-Léonard\, QC\, H1P 2Y7\, Canada
CATEGORIES:eventsList
ATTACH;FMTTYPE=image/jpeg:https://centrebadr.net/wp-content/uploads/2024/11/Panorama-salle-rouge-scaled.jpg
ORGANIZER;CN="Centre Islamique Badr":MAILTO:info@centrebadr.net
END:VEVENT
BEGIN:VEVENT
DTSTART;TZID=UTC:20291130T131500
DTEND;TZID=UTC:20291205T021744
DTSTAMP:20260422T195506
CREATED:20241204T021744Z
LAST-MODIFIED:20251020T021634Z
UID:10000798-1890738900-1891131464@centrebadr.net
SUMMARY:JUMU'AH 3- بالعربية
DESCRIPTION:
URL:https://centrebadr.net/event/jumuah-2-%d8%a8%d8%a7%d9%84%d8%b9%d8%b1%d8%a8%d9%8a%d8%a9/2029-11-30/
LOCATION:Salle Mirage\, 8604 boulevard Langelier\, Saint-Léonard\, QC\, H1P 2Y7\, Canada
CATEGORIES:eventsList
ATTACH;FMTTYPE=image/jpeg:https://centrebadr.net/wp-content/uploads/2024/11/Panorama-salle-rouge-scaled.jpg
ORGANIZER;CN="Centre Islamique Badr":MAILTO:info@centrebadr.net
END:VEVENT
BEGIN:VEVENT
DTSTART;TZID=UTC:20291207T131500
DTEND;TZID=UTC:20291212T021744
DTSTAMP:20260422T195506
CREATED:20241204T021744Z
LAST-MODIFIED:20251020T021634Z
UID:10000799-1891343700-1891736264@centrebadr.net
SUMMARY:JUMU'AH 3- بالعربية
DESCRIPTION:
URL:https://centrebadr.net/event/jumuah-2-%d8%a8%d8%a7%d9%84%d8%b9%d8%b1%d8%a8%d9%8a%d8%a9/2029-12-07/
LOCATION:Salle Mirage\, 8604 boulevard Langelier\, Saint-Léonard\, QC\, H1P 2Y7\, Canada
CATEGORIES:eventsList
ATTACH;FMTTYPE=image/jpeg:https://centrebadr.net/wp-content/uploads/2024/11/Panorama-salle-rouge-scaled.jpg
ORGANIZER;CN="Centre Islamique Badr":MAILTO:info@centrebadr.net
END:VEVENT
END:VCALENDAR