BEGIN:VCALENDAR
VERSION:2.0
PRODID:-//Centre Islamique Badr - ECPv6.8.2.1//NONSGML v1.0//EN
CALSCALE:GREGORIAN
METHOD:PUBLISH
X-ORIGINAL-URL:https://centrebadr.net
X-WR-CALDESC:Évènements pour Centre Islamique Badr
REFRESH-INTERVAL;VALUE=DURATION:PT1H
X-Robots-Tag:noindex
X-PUBLISHED-TTL:PT1H
BEGIN:VTIMEZONE
TZID:America/Toronto
BEGIN:DAYLIGHT
TZOFFSETFROM:-0500
TZOFFSETTO:-0400
TZNAME:EDT
DTSTART:20260308T070000
END:DAYLIGHT
BEGIN:STANDARD
TZOFFSETFROM:-0400
TZOFFSETTO:-0500
TZNAME:EST
DTSTART:20261101T060000
END:STANDARD
END:VTIMEZONE
BEGIN:VEVENT
DTSTART;VALUE=DATE:20260716
DTEND;VALUE=DATE:20260717
DTSTAMP:20260423T111142
CREATED:20251020T031451Z
LAST-MODIFIED:20251020T031451Z
UID:10007027-1784160000-1784246399@centrebadr.net
SUMMARY:Dawrah Fiqh: Le Guide de Survie du Croyant
DESCRIPTION:📚 Invitation ouverte à toutes et à tous !Venez approfondir votre compréhension du fiqh malékite et apprendre les enseignements de la charia qui guident vers le droit chemin. \n🕌 Rejoignez-nous chaque mardi et jeudi après la prière du Maghrib pour le cours de fiqh malékite\, et enrichissez votre savoir afin de vivre votre foi selon la voie d’Allah. \nCes rencontres sont une belle occasion de renforcer votre compréhension de l’islam et d’appliquer ses principes dans votre vie quotidienne. 🌿
URL:https://centrebadr.net/event/dawrah-fiqh-le-guide-de-survie-du-croyant/2026-07-16/
LOCATION:Mosquée Badr\, 8625 Boulevard Langelier\, Saint-Léonard\, QC\, H1P 2C6\, Canada
ORGANIZER;CN="Centre Islamique Badr":MAILTO:info@centrebadr.net
END:VEVENT
BEGIN:VEVENT
DTSTART;VALUE=DATE:20260721
DTEND;VALUE=DATE:20260722
DTSTAMP:20260423T111142
CREATED:20251020T031451Z
LAST-MODIFIED:20251020T031451Z
UID:10007028-1784592000-1784678399@centrebadr.net
SUMMARY:Dawrah Fiqh: Le Guide de Survie du Croyant
DESCRIPTION:📚 Invitation ouverte à toutes et à tous !Venez approfondir votre compréhension du fiqh malékite et apprendre les enseignements de la charia qui guident vers le droit chemin. \n🕌 Rejoignez-nous chaque mardi et jeudi après la prière du Maghrib pour le cours de fiqh malékite\, et enrichissez votre savoir afin de vivre votre foi selon la voie d’Allah. \nCes rencontres sont une belle occasion de renforcer votre compréhension de l’islam et d’appliquer ses principes dans votre vie quotidienne. 🌿
URL:https://centrebadr.net/event/dawrah-fiqh-le-guide-de-survie-du-croyant/2026-07-21/
LOCATION:Mosquée Badr\, 8625 Boulevard Langelier\, Saint-Léonard\, QC\, H1P 2C6\, Canada
ORGANIZER;CN="Centre Islamique Badr":MAILTO:info@centrebadr.net
END:VEVENT
BEGIN:VEVENT
DTSTART;VALUE=DATE:20260723
DTEND;VALUE=DATE:20260724
DTSTAMP:20260423T111142
CREATED:20251020T031451Z
LAST-MODIFIED:20251020T031451Z
UID:10007029-1784764800-1784851199@centrebadr.net
SUMMARY:Dawrah Fiqh: Le Guide de Survie du Croyant
DESCRIPTION:📚 Invitation ouverte à toutes et à tous !Venez approfondir votre compréhension du fiqh malékite et apprendre les enseignements de la charia qui guident vers le droit chemin. \n🕌 Rejoignez-nous chaque mardi et jeudi après la prière du Maghrib pour le cours de fiqh malékite\, et enrichissez votre savoir afin de vivre votre foi selon la voie d’Allah. \nCes rencontres sont une belle occasion de renforcer votre compréhension de l’islam et d’appliquer ses principes dans votre vie quotidienne. 🌿
URL:https://centrebadr.net/event/dawrah-fiqh-le-guide-de-survie-du-croyant/2026-07-23/
LOCATION:Mosquée Badr\, 8625 Boulevard Langelier\, Saint-Léonard\, QC\, H1P 2C6\, Canada
ORGANIZER;CN="Centre Islamique Badr":MAILTO:info@centrebadr.net
END:VEVENT
BEGIN:VEVENT
DTSTART;VALUE=DATE:20260728
DTEND;VALUE=DATE:20260729
DTSTAMP:20260423T111142
CREATED:20251020T031451Z
LAST-MODIFIED:20251020T031451Z
UID:10007030-1785196800-1785283199@centrebadr.net
SUMMARY:Dawrah Fiqh: Le Guide de Survie du Croyant
DESCRIPTION:📚 Invitation ouverte à toutes et à tous !Venez approfondir votre compréhension du fiqh malékite et apprendre les enseignements de la charia qui guident vers le droit chemin. \n🕌 Rejoignez-nous chaque mardi et jeudi après la prière du Maghrib pour le cours de fiqh malékite\, et enrichissez votre savoir afin de vivre votre foi selon la voie d’Allah. \nCes rencontres sont une belle occasion de renforcer votre compréhension de l’islam et d’appliquer ses principes dans votre vie quotidienne. 🌿
URL:https://centrebadr.net/event/dawrah-fiqh-le-guide-de-survie-du-croyant/2026-07-28/
LOCATION:Mosquée Badr\, 8625 Boulevard Langelier\, Saint-Léonard\, QC\, H1P 2C6\, Canada
ORGANIZER;CN="Centre Islamique Badr":MAILTO:info@centrebadr.net
END:VEVENT
BEGIN:VEVENT
DTSTART;VALUE=DATE:20260730
DTEND;VALUE=DATE:20260731
DTSTAMP:20260423T111142
CREATED:20251020T031451Z
LAST-MODIFIED:20251020T031451Z
UID:10007031-1785369600-1785455999@centrebadr.net
SUMMARY:Dawrah Fiqh: Le Guide de Survie du Croyant
DESCRIPTION:📚 Invitation ouverte à toutes et à tous !Venez approfondir votre compréhension du fiqh malékite et apprendre les enseignements de la charia qui guident vers le droit chemin. \n🕌 Rejoignez-nous chaque mardi et jeudi après la prière du Maghrib pour le cours de fiqh malékite\, et enrichissez votre savoir afin de vivre votre foi selon la voie d’Allah. \nCes rencontres sont une belle occasion de renforcer votre compréhension de l’islam et d’appliquer ses principes dans votre vie quotidienne. 🌿
URL:https://centrebadr.net/event/dawrah-fiqh-le-guide-de-survie-du-croyant/2026-07-30/
LOCATION:Mosquée Badr\, 8625 Boulevard Langelier\, Saint-Léonard\, QC\, H1P 2C6\, Canada
ORGANIZER;CN="Centre Islamique Badr":MAILTO:info@centrebadr.net
END:VEVENT
BEGIN:VEVENT
DTSTART;VALUE=DATE:20260804
DTEND;VALUE=DATE:20260805
DTSTAMP:20260423T111142
CREATED:20251020T031451Z
LAST-MODIFIED:20251020T031451Z
UID:10007032-1785801600-1785887999@centrebadr.net
SUMMARY:Dawrah Fiqh: Le Guide de Survie du Croyant
DESCRIPTION:📚 Invitation ouverte à toutes et à tous !Venez approfondir votre compréhension du fiqh malékite et apprendre les enseignements de la charia qui guident vers le droit chemin. \n🕌 Rejoignez-nous chaque mardi et jeudi après la prière du Maghrib pour le cours de fiqh malékite\, et enrichissez votre savoir afin de vivre votre foi selon la voie d’Allah. \nCes rencontres sont une belle occasion de renforcer votre compréhension de l’islam et d’appliquer ses principes dans votre vie quotidienne. 🌿
URL:https://centrebadr.net/event/dawrah-fiqh-le-guide-de-survie-du-croyant/2026-08-04/
LOCATION:Mosquée Badr\, 8625 Boulevard Langelier\, Saint-Léonard\, QC\, H1P 2C6\, Canada
ORGANIZER;CN="Centre Islamique Badr":MAILTO:info@centrebadr.net
END:VEVENT
BEGIN:VEVENT
DTSTART;VALUE=DATE:20260806
DTEND;VALUE=DATE:20260807
DTSTAMP:20260423T111142
CREATED:20251020T031451Z
LAST-MODIFIED:20251020T031451Z
UID:10007033-1785974400-1786060799@centrebadr.net
SUMMARY:Dawrah Fiqh: Le Guide de Survie du Croyant
DESCRIPTION:📚 Invitation ouverte à toutes et à tous !Venez approfondir votre compréhension du fiqh malékite et apprendre les enseignements de la charia qui guident vers le droit chemin. \n🕌 Rejoignez-nous chaque mardi et jeudi après la prière du Maghrib pour le cours de fiqh malékite\, et enrichissez votre savoir afin de vivre votre foi selon la voie d’Allah. \nCes rencontres sont une belle occasion de renforcer votre compréhension de l’islam et d’appliquer ses principes dans votre vie quotidienne. 🌿
URL:https://centrebadr.net/event/dawrah-fiqh-le-guide-de-survie-du-croyant/2026-08-06/
LOCATION:Mosquée Badr\, 8625 Boulevard Langelier\, Saint-Léonard\, QC\, H1P 2C6\, Canada
ORGANIZER;CN="Centre Islamique Badr":MAILTO:info@centrebadr.net
END:VEVENT
BEGIN:VEVENT
DTSTART;VALUE=DATE:20260811
DTEND;VALUE=DATE:20260812
DTSTAMP:20260423T111142
CREATED:20251020T031451Z
LAST-MODIFIED:20251020T031451Z
UID:10007034-1786406400-1786492799@centrebadr.net
SUMMARY:Dawrah Fiqh: Le Guide de Survie du Croyant
DESCRIPTION:📚 Invitation ouverte à toutes et à tous !Venez approfondir votre compréhension du fiqh malékite et apprendre les enseignements de la charia qui guident vers le droit chemin. \n🕌 Rejoignez-nous chaque mardi et jeudi après la prière du Maghrib pour le cours de fiqh malékite\, et enrichissez votre savoir afin de vivre votre foi selon la voie d’Allah. \nCes rencontres sont une belle occasion de renforcer votre compréhension de l’islam et d’appliquer ses principes dans votre vie quotidienne. 🌿
URL:https://centrebadr.net/event/dawrah-fiqh-le-guide-de-survie-du-croyant/2026-08-11/
LOCATION:Mosquée Badr\, 8625 Boulevard Langelier\, Saint-Léonard\, QC\, H1P 2C6\, Canada
ORGANIZER;CN="Centre Islamique Badr":MAILTO:info@centrebadr.net
END:VEVENT
BEGIN:VEVENT
DTSTART;VALUE=DATE:20260813
DTEND;VALUE=DATE:20260814
DTSTAMP:20260423T111142
CREATED:20251020T031451Z
LAST-MODIFIED:20251020T031451Z
UID:10007035-1786579200-1786665599@centrebadr.net
SUMMARY:Dawrah Fiqh: Le Guide de Survie du Croyant
DESCRIPTION:📚 Invitation ouverte à toutes et à tous !Venez approfondir votre compréhension du fiqh malékite et apprendre les enseignements de la charia qui guident vers le droit chemin. \n🕌 Rejoignez-nous chaque mardi et jeudi après la prière du Maghrib pour le cours de fiqh malékite\, et enrichissez votre savoir afin de vivre votre foi selon la voie d’Allah. \nCes rencontres sont une belle occasion de renforcer votre compréhension de l’islam et d’appliquer ses principes dans votre vie quotidienne. 🌿
URL:https://centrebadr.net/event/dawrah-fiqh-le-guide-de-survie-du-croyant/2026-08-13/
LOCATION:Mosquée Badr\, 8625 Boulevard Langelier\, Saint-Léonard\, QC\, H1P 2C6\, Canada
ORGANIZER;CN="Centre Islamique Badr":MAILTO:info@centrebadr.net
END:VEVENT
BEGIN:VEVENT
DTSTART;VALUE=DATE:20260818
DTEND;VALUE=DATE:20260819
DTSTAMP:20260423T111142
CREATED:20251020T031451Z
LAST-MODIFIED:20251020T031451Z
UID:10007036-1787011200-1787097599@centrebadr.net
SUMMARY:Dawrah Fiqh: Le Guide de Survie du Croyant
DESCRIPTION:📚 Invitation ouverte à toutes et à tous !Venez approfondir votre compréhension du fiqh malékite et apprendre les enseignements de la charia qui guident vers le droit chemin. \n🕌 Rejoignez-nous chaque mardi et jeudi après la prière du Maghrib pour le cours de fiqh malékite\, et enrichissez votre savoir afin de vivre votre foi selon la voie d’Allah. \nCes rencontres sont une belle occasion de renforcer votre compréhension de l’islam et d’appliquer ses principes dans votre vie quotidienne. 🌿
URL:https://centrebadr.net/event/dawrah-fiqh-le-guide-de-survie-du-croyant/2026-08-18/
LOCATION:Mosquée Badr\, 8625 Boulevard Langelier\, Saint-Léonard\, QC\, H1P 2C6\, Canada
ORGANIZER;CN="Centre Islamique Badr":MAILTO:info@centrebadr.net
END:VEVENT
BEGIN:VEVENT
DTSTART;VALUE=DATE:20260820
DTEND;VALUE=DATE:20260821
DTSTAMP:20260423T111142
CREATED:20251020T031451Z
LAST-MODIFIED:20251020T031451Z
UID:10007037-1787184000-1787270399@centrebadr.net
SUMMARY:Dawrah Fiqh: Le Guide de Survie du Croyant
DESCRIPTION:📚 Invitation ouverte à toutes et à tous !Venez approfondir votre compréhension du fiqh malékite et apprendre les enseignements de la charia qui guident vers le droit chemin. \n🕌 Rejoignez-nous chaque mardi et jeudi après la prière du Maghrib pour le cours de fiqh malékite\, et enrichissez votre savoir afin de vivre votre foi selon la voie d’Allah. \nCes rencontres sont une belle occasion de renforcer votre compréhension de l’islam et d’appliquer ses principes dans votre vie quotidienne. 🌿
URL:https://centrebadr.net/event/dawrah-fiqh-le-guide-de-survie-du-croyant/2026-08-20/
LOCATION:Mosquée Badr\, 8625 Boulevard Langelier\, Saint-Léonard\, QC\, H1P 2C6\, Canada
ORGANIZER;CN="Centre Islamique Badr":MAILTO:info@centrebadr.net
END:VEVENT
BEGIN:VEVENT
DTSTART;VALUE=DATE:20260825
DTEND;VALUE=DATE:20260826
DTSTAMP:20260423T111142
CREATED:20251020T031451Z
LAST-MODIFIED:20251020T031451Z
UID:10007038-1787616000-1787702399@centrebadr.net
SUMMARY:Dawrah Fiqh: Le Guide de Survie du Croyant
DESCRIPTION:📚 Invitation ouverte à toutes et à tous !Venez approfondir votre compréhension du fiqh malékite et apprendre les enseignements de la charia qui guident vers le droit chemin. \n🕌 Rejoignez-nous chaque mardi et jeudi après la prière du Maghrib pour le cours de fiqh malékite\, et enrichissez votre savoir afin de vivre votre foi selon la voie d’Allah. \nCes rencontres sont une belle occasion de renforcer votre compréhension de l’islam et d’appliquer ses principes dans votre vie quotidienne. 🌿
URL:https://centrebadr.net/event/dawrah-fiqh-le-guide-de-survie-du-croyant/2026-08-25/
LOCATION:Mosquée Badr\, 8625 Boulevard Langelier\, Saint-Léonard\, QC\, H1P 2C6\, Canada
ORGANIZER;CN="Centre Islamique Badr":MAILTO:info@centrebadr.net
END:VEVENT
BEGIN:VEVENT
DTSTART;VALUE=DATE:20260827
DTEND;VALUE=DATE:20260828
DTSTAMP:20260423T111142
CREATED:20251020T031451Z
LAST-MODIFIED:20251020T031451Z
UID:10007039-1787788800-1787875199@centrebadr.net
SUMMARY:Dawrah Fiqh: Le Guide de Survie du Croyant
DESCRIPTION:📚 Invitation ouverte à toutes et à tous !Venez approfondir votre compréhension du fiqh malékite et apprendre les enseignements de la charia qui guident vers le droit chemin. \n🕌 Rejoignez-nous chaque mardi et jeudi après la prière du Maghrib pour le cours de fiqh malékite\, et enrichissez votre savoir afin de vivre votre foi selon la voie d’Allah. \nCes rencontres sont une belle occasion de renforcer votre compréhension de l’islam et d’appliquer ses principes dans votre vie quotidienne. 🌿
URL:https://centrebadr.net/event/dawrah-fiqh-le-guide-de-survie-du-croyant/2026-08-27/
LOCATION:Mosquée Badr\, 8625 Boulevard Langelier\, Saint-Léonard\, QC\, H1P 2C6\, Canada
ORGANIZER;CN="Centre Islamique Badr":MAILTO:info@centrebadr.net
END:VEVENT
BEGIN:VEVENT
DTSTART;VALUE=DATE:20260901
DTEND;VALUE=DATE:20260902
DTSTAMP:20260423T111142
CREATED:20251020T031451Z
LAST-MODIFIED:20251020T031451Z
UID:10007040-1788220800-1788307199@centrebadr.net
SUMMARY:Dawrah Fiqh: Le Guide de Survie du Croyant
DESCRIPTION:📚 Invitation ouverte à toutes et à tous !Venez approfondir votre compréhension du fiqh malékite et apprendre les enseignements de la charia qui guident vers le droit chemin. \n🕌 Rejoignez-nous chaque mardi et jeudi après la prière du Maghrib pour le cours de fiqh malékite\, et enrichissez votre savoir afin de vivre votre foi selon la voie d’Allah. \nCes rencontres sont une belle occasion de renforcer votre compréhension de l’islam et d’appliquer ses principes dans votre vie quotidienne. 🌿
URL:https://centrebadr.net/event/dawrah-fiqh-le-guide-de-survie-du-croyant/2026-09-01/
LOCATION:Mosquée Badr\, 8625 Boulevard Langelier\, Saint-Léonard\, QC\, H1P 2C6\, Canada
ORGANIZER;CN="Centre Islamique Badr":MAILTO:info@centrebadr.net
END:VEVENT
BEGIN:VEVENT
DTSTART;VALUE=DATE:20260903
DTEND;VALUE=DATE:20260904
DTSTAMP:20260423T111142
CREATED:20251020T031451Z
LAST-MODIFIED:20251020T031451Z
UID:10007041-1788393600-1788479999@centrebadr.net
SUMMARY:Dawrah Fiqh: Le Guide de Survie du Croyant
DESCRIPTION:📚 Invitation ouverte à toutes et à tous !Venez approfondir votre compréhension du fiqh malékite et apprendre les enseignements de la charia qui guident vers le droit chemin. \n🕌 Rejoignez-nous chaque mardi et jeudi après la prière du Maghrib pour le cours de fiqh malékite\, et enrichissez votre savoir afin de vivre votre foi selon la voie d’Allah. \nCes rencontres sont une belle occasion de renforcer votre compréhension de l’islam et d’appliquer ses principes dans votre vie quotidienne. 🌿
URL:https://centrebadr.net/event/dawrah-fiqh-le-guide-de-survie-du-croyant/2026-09-03/
LOCATION:Mosquée Badr\, 8625 Boulevard Langelier\, Saint-Léonard\, QC\, H1P 2C6\, Canada
ORGANIZER;CN="Centre Islamique Badr":MAILTO:info@centrebadr.net
END:VEVENT
BEGIN:VEVENT
DTSTART;VALUE=DATE:20260908
DTEND;VALUE=DATE:20260909
DTSTAMP:20260423T111142
CREATED:20251020T031451Z
LAST-MODIFIED:20251020T031451Z
UID:10007042-1788825600-1788911999@centrebadr.net
SUMMARY:Dawrah Fiqh: Le Guide de Survie du Croyant
DESCRIPTION:📚 Invitation ouverte à toutes et à tous !Venez approfondir votre compréhension du fiqh malékite et apprendre les enseignements de la charia qui guident vers le droit chemin. \n🕌 Rejoignez-nous chaque mardi et jeudi après la prière du Maghrib pour le cours de fiqh malékite\, et enrichissez votre savoir afin de vivre votre foi selon la voie d’Allah. \nCes rencontres sont une belle occasion de renforcer votre compréhension de l’islam et d’appliquer ses principes dans votre vie quotidienne. 🌿
URL:https://centrebadr.net/event/dawrah-fiqh-le-guide-de-survie-du-croyant/2026-09-08/
LOCATION:Mosquée Badr\, 8625 Boulevard Langelier\, Saint-Léonard\, QC\, H1P 2C6\, Canada
ORGANIZER;CN="Centre Islamique Badr":MAILTO:info@centrebadr.net
END:VEVENT
BEGIN:VEVENT
DTSTART;VALUE=DATE:20260910
DTEND;VALUE=DATE:20260911
DTSTAMP:20260423T111142
CREATED:20251020T031451Z
LAST-MODIFIED:20251020T031451Z
UID:10007043-1788998400-1789084799@centrebadr.net
SUMMARY:Dawrah Fiqh: Le Guide de Survie du Croyant
DESCRIPTION:📚 Invitation ouverte à toutes et à tous !Venez approfondir votre compréhension du fiqh malékite et apprendre les enseignements de la charia qui guident vers le droit chemin. \n🕌 Rejoignez-nous chaque mardi et jeudi après la prière du Maghrib pour le cours de fiqh malékite\, et enrichissez votre savoir afin de vivre votre foi selon la voie d’Allah. \nCes rencontres sont une belle occasion de renforcer votre compréhension de l’islam et d’appliquer ses principes dans votre vie quotidienne. 🌿
URL:https://centrebadr.net/event/dawrah-fiqh-le-guide-de-survie-du-croyant/2026-09-10/
LOCATION:Mosquée Badr\, 8625 Boulevard Langelier\, Saint-Léonard\, QC\, H1P 2C6\, Canada
ORGANIZER;CN="Centre Islamique Badr":MAILTO:info@centrebadr.net
END:VEVENT
BEGIN:VEVENT
DTSTART;VALUE=DATE:20260915
DTEND;VALUE=DATE:20260916
DTSTAMP:20260423T111142
CREATED:20251020T031451Z
LAST-MODIFIED:20251020T031451Z
UID:10007044-1789430400-1789516799@centrebadr.net
SUMMARY:Dawrah Fiqh: Le Guide de Survie du Croyant
DESCRIPTION:📚 Invitation ouverte à toutes et à tous !Venez approfondir votre compréhension du fiqh malékite et apprendre les enseignements de la charia qui guident vers le droit chemin. \n🕌 Rejoignez-nous chaque mardi et jeudi après la prière du Maghrib pour le cours de fiqh malékite\, et enrichissez votre savoir afin de vivre votre foi selon la voie d’Allah. \nCes rencontres sont une belle occasion de renforcer votre compréhension de l’islam et d’appliquer ses principes dans votre vie quotidienne. 🌿
URL:https://centrebadr.net/event/dawrah-fiqh-le-guide-de-survie-du-croyant/2026-09-15/
LOCATION:Mosquée Badr\, 8625 Boulevard Langelier\, Saint-Léonard\, QC\, H1P 2C6\, Canada
ORGANIZER;CN="Centre Islamique Badr":MAILTO:info@centrebadr.net
END:VEVENT
BEGIN:VEVENT
DTSTART;VALUE=DATE:20260917
DTEND;VALUE=DATE:20260918
DTSTAMP:20260423T111142
CREATED:20251020T031451Z
LAST-MODIFIED:20251020T031451Z
UID:10007045-1789603200-1789689599@centrebadr.net
SUMMARY:Dawrah Fiqh: Le Guide de Survie du Croyant
DESCRIPTION:📚 Invitation ouverte à toutes et à tous !Venez approfondir votre compréhension du fiqh malékite et apprendre les enseignements de la charia qui guident vers le droit chemin. \n🕌 Rejoignez-nous chaque mardi et jeudi après la prière du Maghrib pour le cours de fiqh malékite\, et enrichissez votre savoir afin de vivre votre foi selon la voie d’Allah. \nCes rencontres sont une belle occasion de renforcer votre compréhension de l’islam et d’appliquer ses principes dans votre vie quotidienne. 🌿
URL:https://centrebadr.net/event/dawrah-fiqh-le-guide-de-survie-du-croyant/2026-09-17/
LOCATION:Mosquée Badr\, 8625 Boulevard Langelier\, Saint-Léonard\, QC\, H1P 2C6\, Canada
ORGANIZER;CN="Centre Islamique Badr":MAILTO:info@centrebadr.net
END:VEVENT
BEGIN:VEVENT
DTSTART;VALUE=DATE:20260922
DTEND;VALUE=DATE:20260923
DTSTAMP:20260423T111142
CREATED:20251020T031451Z
LAST-MODIFIED:20251020T031451Z
UID:10007046-1790035200-1790121599@centrebadr.net
SUMMARY:Dawrah Fiqh: Le Guide de Survie du Croyant
DESCRIPTION:📚 Invitation ouverte à toutes et à tous !Venez approfondir votre compréhension du fiqh malékite et apprendre les enseignements de la charia qui guident vers le droit chemin. \n🕌 Rejoignez-nous chaque mardi et jeudi après la prière du Maghrib pour le cours de fiqh malékite\, et enrichissez votre savoir afin de vivre votre foi selon la voie d’Allah. \nCes rencontres sont une belle occasion de renforcer votre compréhension de l’islam et d’appliquer ses principes dans votre vie quotidienne. 🌿
URL:https://centrebadr.net/event/dawrah-fiqh-le-guide-de-survie-du-croyant/2026-09-22/
LOCATION:Mosquée Badr\, 8625 Boulevard Langelier\, Saint-Léonard\, QC\, H1P 2C6\, Canada
ORGANIZER;CN="Centre Islamique Badr":MAILTO:info@centrebadr.net
END:VEVENT
BEGIN:VEVENT
DTSTART;VALUE=DATE:20260924
DTEND;VALUE=DATE:20260925
DTSTAMP:20260423T111142
CREATED:20251020T031451Z
LAST-MODIFIED:20251020T031451Z
UID:10007047-1790208000-1790294399@centrebadr.net
SUMMARY:Dawrah Fiqh: Le Guide de Survie du Croyant
DESCRIPTION:📚 Invitation ouverte à toutes et à tous !Venez approfondir votre compréhension du fiqh malékite et apprendre les enseignements de la charia qui guident vers le droit chemin. \n🕌 Rejoignez-nous chaque mardi et jeudi après la prière du Maghrib pour le cours de fiqh malékite\, et enrichissez votre savoir afin de vivre votre foi selon la voie d’Allah. \nCes rencontres sont une belle occasion de renforcer votre compréhension de l’islam et d’appliquer ses principes dans votre vie quotidienne. 🌿
URL:https://centrebadr.net/event/dawrah-fiqh-le-guide-de-survie-du-croyant/2026-09-24/
LOCATION:Mosquée Badr\, 8625 Boulevard Langelier\, Saint-Léonard\, QC\, H1P 2C6\, Canada
ORGANIZER;CN="Centre Islamique Badr":MAILTO:info@centrebadr.net
END:VEVENT
BEGIN:VEVENT
DTSTART;VALUE=DATE:20260929
DTEND;VALUE=DATE:20260930
DTSTAMP:20260423T111142
CREATED:20251020T031451Z
LAST-MODIFIED:20251020T031451Z
UID:10007048-1790640000-1790726399@centrebadr.net
SUMMARY:Dawrah Fiqh: Le Guide de Survie du Croyant
DESCRIPTION:📚 Invitation ouverte à toutes et à tous !Venez approfondir votre compréhension du fiqh malékite et apprendre les enseignements de la charia qui guident vers le droit chemin. \n🕌 Rejoignez-nous chaque mardi et jeudi après la prière du Maghrib pour le cours de fiqh malékite\, et enrichissez votre savoir afin de vivre votre foi selon la voie d’Allah. \nCes rencontres sont une belle occasion de renforcer votre compréhension de l’islam et d’appliquer ses principes dans votre vie quotidienne. 🌿
URL:https://centrebadr.net/event/dawrah-fiqh-le-guide-de-survie-du-croyant/2026-09-29/
LOCATION:Mosquée Badr\, 8625 Boulevard Langelier\, Saint-Léonard\, QC\, H1P 2C6\, Canada
ORGANIZER;CN="Centre Islamique Badr":MAILTO:info@centrebadr.net
END:VEVENT
BEGIN:VEVENT
DTSTART;VALUE=DATE:20261001
DTEND;VALUE=DATE:20261002
DTSTAMP:20260423T111142
CREATED:20251020T031451Z
LAST-MODIFIED:20251020T031451Z
UID:10007049-1790812800-1790899199@centrebadr.net
SUMMARY:Dawrah Fiqh: Le Guide de Survie du Croyant
DESCRIPTION:📚 Invitation ouverte à toutes et à tous !Venez approfondir votre compréhension du fiqh malékite et apprendre les enseignements de la charia qui guident vers le droit chemin. \n🕌 Rejoignez-nous chaque mardi et jeudi après la prière du Maghrib pour le cours de fiqh malékite\, et enrichissez votre savoir afin de vivre votre foi selon la voie d’Allah. \nCes rencontres sont une belle occasion de renforcer votre compréhension de l’islam et d’appliquer ses principes dans votre vie quotidienne. 🌿
URL:https://centrebadr.net/event/dawrah-fiqh-le-guide-de-survie-du-croyant/2026-10-01/
LOCATION:Mosquée Badr\, 8625 Boulevard Langelier\, Saint-Léonard\, QC\, H1P 2C6\, Canada
ORGANIZER;CN="Centre Islamique Badr":MAILTO:info@centrebadr.net
END:VEVENT
BEGIN:VEVENT
DTSTART;VALUE=DATE:20261006
DTEND;VALUE=DATE:20261007
DTSTAMP:20260423T111142
CREATED:20251020T031451Z
LAST-MODIFIED:20251020T031451Z
UID:10007050-1791244800-1791331199@centrebadr.net
SUMMARY:Dawrah Fiqh: Le Guide de Survie du Croyant
DESCRIPTION:📚 Invitation ouverte à toutes et à tous !Venez approfondir votre compréhension du fiqh malékite et apprendre les enseignements de la charia qui guident vers le droit chemin. \n🕌 Rejoignez-nous chaque mardi et jeudi après la prière du Maghrib pour le cours de fiqh malékite\, et enrichissez votre savoir afin de vivre votre foi selon la voie d’Allah. \nCes rencontres sont une belle occasion de renforcer votre compréhension de l’islam et d’appliquer ses principes dans votre vie quotidienne. 🌿
URL:https://centrebadr.net/event/dawrah-fiqh-le-guide-de-survie-du-croyant/2026-10-06/
LOCATION:Mosquée Badr\, 8625 Boulevard Langelier\, Saint-Léonard\, QC\, H1P 2C6\, Canada
ORGANIZER;CN="Centre Islamique Badr":MAILTO:info@centrebadr.net
END:VEVENT
BEGIN:VEVENT
DTSTART;VALUE=DATE:20261008
DTEND;VALUE=DATE:20261009
DTSTAMP:20260423T111142
CREATED:20251020T031451Z
LAST-MODIFIED:20251020T031451Z
UID:10007051-1791417600-1791503999@centrebadr.net
SUMMARY:Dawrah Fiqh: Le Guide de Survie du Croyant
DESCRIPTION:📚 Invitation ouverte à toutes et à tous !Venez approfondir votre compréhension du fiqh malékite et apprendre les enseignements de la charia qui guident vers le droit chemin. \n🕌 Rejoignez-nous chaque mardi et jeudi après la prière du Maghrib pour le cours de fiqh malékite\, et enrichissez votre savoir afin de vivre votre foi selon la voie d’Allah. \nCes rencontres sont une belle occasion de renforcer votre compréhension de l’islam et d’appliquer ses principes dans votre vie quotidienne. 🌿
URL:https://centrebadr.net/event/dawrah-fiqh-le-guide-de-survie-du-croyant/2026-10-08/
LOCATION:Mosquée Badr\, 8625 Boulevard Langelier\, Saint-Léonard\, QC\, H1P 2C6\, Canada
ORGANIZER;CN="Centre Islamique Badr":MAILTO:info@centrebadr.net
END:VEVENT
BEGIN:VEVENT
DTSTART;VALUE=DATE:20261013
DTEND;VALUE=DATE:20261014
DTSTAMP:20260423T111142
CREATED:20251020T031451Z
LAST-MODIFIED:20251020T031451Z
UID:10007052-1791849600-1791935999@centrebadr.net
SUMMARY:Dawrah Fiqh: Le Guide de Survie du Croyant
DESCRIPTION:📚 Invitation ouverte à toutes et à tous !Venez approfondir votre compréhension du fiqh malékite et apprendre les enseignements de la charia qui guident vers le droit chemin. \n🕌 Rejoignez-nous chaque mardi et jeudi après la prière du Maghrib pour le cours de fiqh malékite\, et enrichissez votre savoir afin de vivre votre foi selon la voie d’Allah. \nCes rencontres sont une belle occasion de renforcer votre compréhension de l’islam et d’appliquer ses principes dans votre vie quotidienne. 🌿
URL:https://centrebadr.net/event/dawrah-fiqh-le-guide-de-survie-du-croyant/2026-10-13/
LOCATION:Mosquée Badr\, 8625 Boulevard Langelier\, Saint-Léonard\, QC\, H1P 2C6\, Canada
ORGANIZER;CN="Centre Islamique Badr":MAILTO:info@centrebadr.net
END:VEVENT
BEGIN:VEVENT
DTSTART;VALUE=DATE:20261015
DTEND;VALUE=DATE:20261016
DTSTAMP:20260423T111142
CREATED:20251020T031451Z
LAST-MODIFIED:20251020T031451Z
UID:10007053-1792022400-1792108799@centrebadr.net
SUMMARY:Dawrah Fiqh: Le Guide de Survie du Croyant
DESCRIPTION:📚 Invitation ouverte à toutes et à tous !Venez approfondir votre compréhension du fiqh malékite et apprendre les enseignements de la charia qui guident vers le droit chemin. \n🕌 Rejoignez-nous chaque mardi et jeudi après la prière du Maghrib pour le cours de fiqh malékite\, et enrichissez votre savoir afin de vivre votre foi selon la voie d’Allah. \nCes rencontres sont une belle occasion de renforcer votre compréhension de l’islam et d’appliquer ses principes dans votre vie quotidienne. 🌿
URL:https://centrebadr.net/event/dawrah-fiqh-le-guide-de-survie-du-croyant/2026-10-15/
LOCATION:Mosquée Badr\, 8625 Boulevard Langelier\, Saint-Léonard\, QC\, H1P 2C6\, Canada
ORGANIZER;CN="Centre Islamique Badr":MAILTO:info@centrebadr.net
END:VEVENT
BEGIN:VEVENT
DTSTART;VALUE=DATE:20261020
DTEND;VALUE=DATE:20261021
DTSTAMP:20260423T111142
CREATED:20251020T031451Z
LAST-MODIFIED:20251020T031451Z
UID:10007054-1792454400-1792540799@centrebadr.net
SUMMARY:Dawrah Fiqh: Le Guide de Survie du Croyant
DESCRIPTION:📚 Invitation ouverte à toutes et à tous !Venez approfondir votre compréhension du fiqh malékite et apprendre les enseignements de la charia qui guident vers le droit chemin. \n🕌 Rejoignez-nous chaque mardi et jeudi après la prière du Maghrib pour le cours de fiqh malékite\, et enrichissez votre savoir afin de vivre votre foi selon la voie d’Allah. \nCes rencontres sont une belle occasion de renforcer votre compréhension de l’islam et d’appliquer ses principes dans votre vie quotidienne. 🌿
URL:https://centrebadr.net/event/dawrah-fiqh-le-guide-de-survie-du-croyant/2026-10-20/
LOCATION:Mosquée Badr\, 8625 Boulevard Langelier\, Saint-Léonard\, QC\, H1P 2C6\, Canada
ORGANIZER;CN="Centre Islamique Badr":MAILTO:info@centrebadr.net
END:VEVENT
END:VCALENDAR