BEGIN:VCALENDAR
VERSION:2.0
PRODID:-//Centre Islamique Badr - ECPv6.8.2.1//NONSGML v1.0//EN
CALSCALE:GREGORIAN
METHOD:PUBLISH
X-WR-CALNAME:Centre Islamique Badr
X-ORIGINAL-URL:https://centrebadr.net
X-WR-CALDESC:Évènements pour Centre Islamique Badr
REFRESH-INTERVAL;VALUE=DURATION:PT1H
X-Robots-Tag:noindex
X-PUBLISHED-TTL:PT1H
BEGIN:VTIMEZONE
TZID:UTC
BEGIN:STANDARD
TZOFFSETFROM:+0000
TZOFFSETTO:+0000
TZNAME:UTC
DTSTART:20270101T000000
END:STANDARD
END:VTIMEZONE
BEGIN:VEVENT
DTSTART;TZID=UTC:20271203T131500
DTEND;TZID=UTC:20271208T021744
DTSTAMP:20260422T064801
CREATED:20241204T021744Z
LAST-MODIFIED:20251020T021634Z
UID:10000694-1827839700-1828232264@centrebadr.net
SUMMARY:JUMU'AH 3- بالعربية
DESCRIPTION:
URL:https://centrebadr.net/event/jumuah-2-%d8%a8%d8%a7%d9%84%d8%b9%d8%b1%d8%a8%d9%8a%d8%a9/2027-12-03/
LOCATION:Salle Mirage\, 8604 boulevard Langelier\, Saint-Léonard\, QC\, H1P 2Y7\, Canada
CATEGORIES:eventsList
ATTACH;FMTTYPE=image/jpeg:https://centrebadr.net/wp-content/uploads/2024/11/Panorama-salle-rouge-scaled.jpg
ORGANIZER;CN="Centre Islamique Badr":MAILTO:info@centrebadr.net
END:VEVENT
BEGIN:VEVENT
DTSTART;TZID=UTC:20271210T131500
DTEND;TZID=UTC:20271215T021744
DTSTAMP:20260422T064801
CREATED:20241204T021744Z
LAST-MODIFIED:20251020T021634Z
UID:10000695-1828444500-1828837064@centrebadr.net
SUMMARY:JUMU'AH 3- بالعربية
DESCRIPTION:
URL:https://centrebadr.net/event/jumuah-2-%d8%a8%d8%a7%d9%84%d8%b9%d8%b1%d8%a8%d9%8a%d8%a9/2027-12-10/
LOCATION:Salle Mirage\, 8604 boulevard Langelier\, Saint-Léonard\, QC\, H1P 2Y7\, Canada
CATEGORIES:eventsList
ATTACH;FMTTYPE=image/jpeg:https://centrebadr.net/wp-content/uploads/2024/11/Panorama-salle-rouge-scaled.jpg
ORGANIZER;CN="Centre Islamique Badr":MAILTO:info@centrebadr.net
END:VEVENT
BEGIN:VEVENT
DTSTART;TZID=UTC:20271217T131500
DTEND;TZID=UTC:20271222T021744
DTSTAMP:20260422T064801
CREATED:20241204T021744Z
LAST-MODIFIED:20251020T021634Z
UID:10000696-1829049300-1829441864@centrebadr.net
SUMMARY:JUMU'AH 3- بالعربية
DESCRIPTION:
URL:https://centrebadr.net/event/jumuah-2-%d8%a8%d8%a7%d9%84%d8%b9%d8%b1%d8%a8%d9%8a%d8%a9/2027-12-17/
LOCATION:Salle Mirage\, 8604 boulevard Langelier\, Saint-Léonard\, QC\, H1P 2Y7\, Canada
CATEGORIES:eventsList
ATTACH;FMTTYPE=image/jpeg:https://centrebadr.net/wp-content/uploads/2024/11/Panorama-salle-rouge-scaled.jpg
ORGANIZER;CN="Centre Islamique Badr":MAILTO:info@centrebadr.net
END:VEVENT
BEGIN:VEVENT
DTSTART;TZID=UTC:20271224T131500
DTEND;TZID=UTC:20271229T021744
DTSTAMP:20260422T064801
CREATED:20241204T021744Z
LAST-MODIFIED:20251020T021634Z
UID:10000697-1829654100-1830046664@centrebadr.net
SUMMARY:JUMU'AH 3- بالعربية
DESCRIPTION:
URL:https://centrebadr.net/event/jumuah-2-%d8%a8%d8%a7%d9%84%d8%b9%d8%b1%d8%a8%d9%8a%d8%a9/2027-12-24/
LOCATION:Salle Mirage\, 8604 boulevard Langelier\, Saint-Léonard\, QC\, H1P 2Y7\, Canada
CATEGORIES:eventsList
ATTACH;FMTTYPE=image/jpeg:https://centrebadr.net/wp-content/uploads/2024/11/Panorama-salle-rouge-scaled.jpg
ORGANIZER;CN="Centre Islamique Badr":MAILTO:info@centrebadr.net
END:VEVENT
BEGIN:VEVENT
DTSTART;TZID=UTC:20271231T131500
DTEND;TZID=UTC:20280105T021744
DTSTAMP:20260422T064801
CREATED:20241204T021744Z
LAST-MODIFIED:20251020T021634Z
UID:10000698-1830258900-1830651464@centrebadr.net
SUMMARY:JUMU'AH 3- بالعربية
DESCRIPTION:
URL:https://centrebadr.net/event/jumuah-2-%d8%a8%d8%a7%d9%84%d8%b9%d8%b1%d8%a8%d9%8a%d8%a9/2027-12-31/
LOCATION:Salle Mirage\, 8604 boulevard Langelier\, Saint-Léonard\, QC\, H1P 2Y7\, Canada
CATEGORIES:eventsList
ATTACH;FMTTYPE=image/jpeg:https://centrebadr.net/wp-content/uploads/2024/11/Panorama-salle-rouge-scaled.jpg
ORGANIZER;CN="Centre Islamique Badr":MAILTO:info@centrebadr.net
END:VEVENT
BEGIN:VEVENT
DTSTART;TZID=UTC:20280107T131500
DTEND;TZID=UTC:20280112T021744
DTSTAMP:20260422T064801
CREATED:20241204T021744Z
LAST-MODIFIED:20251020T021634Z
UID:10000699-1830863700-1831256264@centrebadr.net
SUMMARY:JUMU'AH 3- بالعربية
DESCRIPTION:
URL:https://centrebadr.net/event/jumuah-2-%d8%a8%d8%a7%d9%84%d8%b9%d8%b1%d8%a8%d9%8a%d8%a9/2028-01-07/
LOCATION:Salle Mirage\, 8604 boulevard Langelier\, Saint-Léonard\, QC\, H1P 2Y7\, Canada
CATEGORIES:eventsList
ATTACH;FMTTYPE=image/jpeg:https://centrebadr.net/wp-content/uploads/2024/11/Panorama-salle-rouge-scaled.jpg
ORGANIZER;CN="Centre Islamique Badr":MAILTO:info@centrebadr.net
END:VEVENT
BEGIN:VEVENT
DTSTART;TZID=UTC:20280114T131500
DTEND;TZID=UTC:20280119T021744
DTSTAMP:20260422T064801
CREATED:20241204T021744Z
LAST-MODIFIED:20251020T021634Z
UID:10000700-1831468500-1831861064@centrebadr.net
SUMMARY:JUMU'AH 3- بالعربية
DESCRIPTION:
URL:https://centrebadr.net/event/jumuah-2-%d8%a8%d8%a7%d9%84%d8%b9%d8%b1%d8%a8%d9%8a%d8%a9/2028-01-14/
LOCATION:Salle Mirage\, 8604 boulevard Langelier\, Saint-Léonard\, QC\, H1P 2Y7\, Canada
CATEGORIES:eventsList
ATTACH;FMTTYPE=image/jpeg:https://centrebadr.net/wp-content/uploads/2024/11/Panorama-salle-rouge-scaled.jpg
ORGANIZER;CN="Centre Islamique Badr":MAILTO:info@centrebadr.net
END:VEVENT
BEGIN:VEVENT
DTSTART;TZID=UTC:20280121T131500
DTEND;TZID=UTC:20280126T021744
DTSTAMP:20260422T064801
CREATED:20241204T021744Z
LAST-MODIFIED:20251020T021634Z
UID:10000701-1832073300-1832465864@centrebadr.net
SUMMARY:JUMU'AH 3- بالعربية
DESCRIPTION:
URL:https://centrebadr.net/event/jumuah-2-%d8%a8%d8%a7%d9%84%d8%b9%d8%b1%d8%a8%d9%8a%d8%a9/2028-01-21/
LOCATION:Salle Mirage\, 8604 boulevard Langelier\, Saint-Léonard\, QC\, H1P 2Y7\, Canada
CATEGORIES:eventsList
ATTACH;FMTTYPE=image/jpeg:https://centrebadr.net/wp-content/uploads/2024/11/Panorama-salle-rouge-scaled.jpg
ORGANIZER;CN="Centre Islamique Badr":MAILTO:info@centrebadr.net
END:VEVENT
BEGIN:VEVENT
DTSTART;TZID=UTC:20280128T131500
DTEND;TZID=UTC:20280202T021744
DTSTAMP:20260422T064801
CREATED:20241204T021744Z
LAST-MODIFIED:20251020T021634Z
UID:10000702-1832678100-1833070664@centrebadr.net
SUMMARY:JUMU'AH 3- بالعربية
DESCRIPTION:
URL:https://centrebadr.net/event/jumuah-2-%d8%a8%d8%a7%d9%84%d8%b9%d8%b1%d8%a8%d9%8a%d8%a9/2028-01-28/
LOCATION:Salle Mirage\, 8604 boulevard Langelier\, Saint-Léonard\, QC\, H1P 2Y7\, Canada
CATEGORIES:eventsList
ATTACH;FMTTYPE=image/jpeg:https://centrebadr.net/wp-content/uploads/2024/11/Panorama-salle-rouge-scaled.jpg
ORGANIZER;CN="Centre Islamique Badr":MAILTO:info@centrebadr.net
END:VEVENT
BEGIN:VEVENT
DTSTART;TZID=UTC:20280204T131500
DTEND;TZID=UTC:20280209T021744
DTSTAMP:20260422T064801
CREATED:20241204T021744Z
LAST-MODIFIED:20251020T021634Z
UID:10000703-1833282900-1833675464@centrebadr.net
SUMMARY:JUMU'AH 3- بالعربية
DESCRIPTION:
URL:https://centrebadr.net/event/jumuah-2-%d8%a8%d8%a7%d9%84%d8%b9%d8%b1%d8%a8%d9%8a%d8%a9/2028-02-04/
LOCATION:Salle Mirage\, 8604 boulevard Langelier\, Saint-Léonard\, QC\, H1P 2Y7\, Canada
CATEGORIES:eventsList
ATTACH;FMTTYPE=image/jpeg:https://centrebadr.net/wp-content/uploads/2024/11/Panorama-salle-rouge-scaled.jpg
ORGANIZER;CN="Centre Islamique Badr":MAILTO:info@centrebadr.net
END:VEVENT
BEGIN:VEVENT
DTSTART;TZID=UTC:20280211T131500
DTEND;TZID=UTC:20280216T021744
DTSTAMP:20260422T064801
CREATED:20241204T021744Z
LAST-MODIFIED:20251020T021634Z
UID:10000704-1833887700-1834280264@centrebadr.net
SUMMARY:JUMU'AH 3- بالعربية
DESCRIPTION:
URL:https://centrebadr.net/event/jumuah-2-%d8%a8%d8%a7%d9%84%d8%b9%d8%b1%d8%a8%d9%8a%d8%a9/2028-02-11/
LOCATION:Salle Mirage\, 8604 boulevard Langelier\, Saint-Léonard\, QC\, H1P 2Y7\, Canada
CATEGORIES:eventsList
ATTACH;FMTTYPE=image/jpeg:https://centrebadr.net/wp-content/uploads/2024/11/Panorama-salle-rouge-scaled.jpg
ORGANIZER;CN="Centre Islamique Badr":MAILTO:info@centrebadr.net
END:VEVENT
BEGIN:VEVENT
DTSTART;TZID=UTC:20280218T131500
DTEND;TZID=UTC:20280223T021744
DTSTAMP:20260422T064801
CREATED:20241204T021744Z
LAST-MODIFIED:20251020T021634Z
UID:10000705-1834492500-1834885064@centrebadr.net
SUMMARY:JUMU'AH 3- بالعربية
DESCRIPTION:
URL:https://centrebadr.net/event/jumuah-2-%d8%a8%d8%a7%d9%84%d8%b9%d8%b1%d8%a8%d9%8a%d8%a9/2028-02-18/
LOCATION:Salle Mirage\, 8604 boulevard Langelier\, Saint-Léonard\, QC\, H1P 2Y7\, Canada
CATEGORIES:eventsList
ATTACH;FMTTYPE=image/jpeg:https://centrebadr.net/wp-content/uploads/2024/11/Panorama-salle-rouge-scaled.jpg
ORGANIZER;CN="Centre Islamique Badr":MAILTO:info@centrebadr.net
END:VEVENT
BEGIN:VEVENT
DTSTART;TZID=UTC:20280225T131500
DTEND;TZID=UTC:20280301T021744
DTSTAMP:20260422T064801
CREATED:20241204T021744Z
LAST-MODIFIED:20251020T021634Z
UID:10000706-1835097300-1835489864@centrebadr.net
SUMMARY:JUMU'AH 3- بالعربية
DESCRIPTION:
URL:https://centrebadr.net/event/jumuah-2-%d8%a8%d8%a7%d9%84%d8%b9%d8%b1%d8%a8%d9%8a%d8%a9/2028-02-25/
LOCATION:Salle Mirage\, 8604 boulevard Langelier\, Saint-Léonard\, QC\, H1P 2Y7\, Canada
CATEGORIES:eventsList
ATTACH;FMTTYPE=image/jpeg:https://centrebadr.net/wp-content/uploads/2024/11/Panorama-salle-rouge-scaled.jpg
ORGANIZER;CN="Centre Islamique Badr":MAILTO:info@centrebadr.net
END:VEVENT
BEGIN:VEVENT
DTSTART;TZID=UTC:20280303T131500
DTEND;TZID=UTC:20280308T021744
DTSTAMP:20260422T064801
CREATED:20241204T021744Z
LAST-MODIFIED:20251020T021634Z
UID:10000707-1835702100-1836094664@centrebadr.net
SUMMARY:JUMU'AH 3- بالعربية
DESCRIPTION:
URL:https://centrebadr.net/event/jumuah-2-%d8%a8%d8%a7%d9%84%d8%b9%d8%b1%d8%a8%d9%8a%d8%a9/2028-03-03/
LOCATION:Salle Mirage\, 8604 boulevard Langelier\, Saint-Léonard\, QC\, H1P 2Y7\, Canada
CATEGORIES:eventsList
ATTACH;FMTTYPE=image/jpeg:https://centrebadr.net/wp-content/uploads/2024/11/Panorama-salle-rouge-scaled.jpg
ORGANIZER;CN="Centre Islamique Badr":MAILTO:info@centrebadr.net
END:VEVENT
BEGIN:VEVENT
DTSTART;TZID=UTC:20280310T131500
DTEND;TZID=UTC:20280315T021744
DTSTAMP:20260422T064801
CREATED:20241204T021744Z
LAST-MODIFIED:20251020T021634Z
UID:10000708-1836306900-1836699464@centrebadr.net
SUMMARY:JUMU'AH 3- بالعربية
DESCRIPTION:
URL:https://centrebadr.net/event/jumuah-2-%d8%a8%d8%a7%d9%84%d8%b9%d8%b1%d8%a8%d9%8a%d8%a9/2028-03-10/
LOCATION:Salle Mirage\, 8604 boulevard Langelier\, Saint-Léonard\, QC\, H1P 2Y7\, Canada
CATEGORIES:eventsList
ATTACH;FMTTYPE=image/jpeg:https://centrebadr.net/wp-content/uploads/2024/11/Panorama-salle-rouge-scaled.jpg
ORGANIZER;CN="Centre Islamique Badr":MAILTO:info@centrebadr.net
END:VEVENT
BEGIN:VEVENT
DTSTART;TZID=UTC:20280317T131500
DTEND;TZID=UTC:20280322T021744
DTSTAMP:20260422T064801
CREATED:20241204T021744Z
LAST-MODIFIED:20251020T021634Z
UID:10000709-1836911700-1837304264@centrebadr.net
SUMMARY:JUMU'AH 3- بالعربية
DESCRIPTION:
URL:https://centrebadr.net/event/jumuah-2-%d8%a8%d8%a7%d9%84%d8%b9%d8%b1%d8%a8%d9%8a%d8%a9/2028-03-17/
LOCATION:Salle Mirage\, 8604 boulevard Langelier\, Saint-Léonard\, QC\, H1P 2Y7\, Canada
CATEGORIES:eventsList
ATTACH;FMTTYPE=image/jpeg:https://centrebadr.net/wp-content/uploads/2024/11/Panorama-salle-rouge-scaled.jpg
ORGANIZER;CN="Centre Islamique Badr":MAILTO:info@centrebadr.net
END:VEVENT
BEGIN:VEVENT
DTSTART;TZID=UTC:20280324T131500
DTEND;TZID=UTC:20280329T021744
DTSTAMP:20260422T064801
CREATED:20241204T021744Z
LAST-MODIFIED:20251020T021634Z
UID:10000710-1837516500-1837909064@centrebadr.net
SUMMARY:JUMU'AH 3- بالعربية
DESCRIPTION:
URL:https://centrebadr.net/event/jumuah-2-%d8%a8%d8%a7%d9%84%d8%b9%d8%b1%d8%a8%d9%8a%d8%a9/2028-03-24/
LOCATION:Salle Mirage\, 8604 boulevard Langelier\, Saint-Léonard\, QC\, H1P 2Y7\, Canada
CATEGORIES:eventsList
ATTACH;FMTTYPE=image/jpeg:https://centrebadr.net/wp-content/uploads/2024/11/Panorama-salle-rouge-scaled.jpg
ORGANIZER;CN="Centre Islamique Badr":MAILTO:info@centrebadr.net
END:VEVENT
BEGIN:VEVENT
DTSTART;TZID=UTC:20280331T131500
DTEND;TZID=UTC:20280405T021744
DTSTAMP:20260422T064801
CREATED:20241204T021744Z
LAST-MODIFIED:20251020T021634Z
UID:10000711-1838121300-1838513864@centrebadr.net
SUMMARY:JUMU'AH 3- بالعربية
DESCRIPTION:
URL:https://centrebadr.net/event/jumuah-2-%d8%a8%d8%a7%d9%84%d8%b9%d8%b1%d8%a8%d9%8a%d8%a9/2028-03-31/
LOCATION:Salle Mirage\, 8604 boulevard Langelier\, Saint-Léonard\, QC\, H1P 2Y7\, Canada
CATEGORIES:eventsList
ATTACH;FMTTYPE=image/jpeg:https://centrebadr.net/wp-content/uploads/2024/11/Panorama-salle-rouge-scaled.jpg
ORGANIZER;CN="Centre Islamique Badr":MAILTO:info@centrebadr.net
END:VEVENT
BEGIN:VEVENT
DTSTART;TZID=UTC:20280407T131500
DTEND;TZID=UTC:20280412T021744
DTSTAMP:20260422T064801
CREATED:20241204T021744Z
LAST-MODIFIED:20251020T021634Z
UID:10000712-1838726100-1839118664@centrebadr.net
SUMMARY:JUMU'AH 3- بالعربية
DESCRIPTION:
URL:https://centrebadr.net/event/jumuah-2-%d8%a8%d8%a7%d9%84%d8%b9%d8%b1%d8%a8%d9%8a%d8%a9/2028-04-07/
LOCATION:Salle Mirage\, 8604 boulevard Langelier\, Saint-Léonard\, QC\, H1P 2Y7\, Canada
CATEGORIES:eventsList
ATTACH;FMTTYPE=image/jpeg:https://centrebadr.net/wp-content/uploads/2024/11/Panorama-salle-rouge-scaled.jpg
ORGANIZER;CN="Centre Islamique Badr":MAILTO:info@centrebadr.net
END:VEVENT
BEGIN:VEVENT
DTSTART;TZID=UTC:20280414T131500
DTEND;TZID=UTC:20280419T021744
DTSTAMP:20260422T064801
CREATED:20241204T021744Z
LAST-MODIFIED:20251020T021634Z
UID:10000713-1839330900-1839723464@centrebadr.net
SUMMARY:JUMU'AH 3- بالعربية
DESCRIPTION:
URL:https://centrebadr.net/event/jumuah-2-%d8%a8%d8%a7%d9%84%d8%b9%d8%b1%d8%a8%d9%8a%d8%a9/2028-04-14/
LOCATION:Salle Mirage\, 8604 boulevard Langelier\, Saint-Léonard\, QC\, H1P 2Y7\, Canada
CATEGORIES:eventsList
ATTACH;FMTTYPE=image/jpeg:https://centrebadr.net/wp-content/uploads/2024/11/Panorama-salle-rouge-scaled.jpg
ORGANIZER;CN="Centre Islamique Badr":MAILTO:info@centrebadr.net
END:VEVENT
BEGIN:VEVENT
DTSTART;TZID=UTC:20280421T131500
DTEND;TZID=UTC:20280426T021744
DTSTAMP:20260422T064801
CREATED:20241204T021744Z
LAST-MODIFIED:20251020T021634Z
UID:10000714-1839935700-1840328264@centrebadr.net
SUMMARY:JUMU'AH 3- بالعربية
DESCRIPTION:
URL:https://centrebadr.net/event/jumuah-2-%d8%a8%d8%a7%d9%84%d8%b9%d8%b1%d8%a8%d9%8a%d8%a9/2028-04-21/
LOCATION:Salle Mirage\, 8604 boulevard Langelier\, Saint-Léonard\, QC\, H1P 2Y7\, Canada
CATEGORIES:eventsList
ATTACH;FMTTYPE=image/jpeg:https://centrebadr.net/wp-content/uploads/2024/11/Panorama-salle-rouge-scaled.jpg
ORGANIZER;CN="Centre Islamique Badr":MAILTO:info@centrebadr.net
END:VEVENT
BEGIN:VEVENT
DTSTART;TZID=UTC:20280428T131500
DTEND;TZID=UTC:20280503T021744
DTSTAMP:20260422T064801
CREATED:20241204T021744Z
LAST-MODIFIED:20251020T021634Z
UID:10000715-1840540500-1840933064@centrebadr.net
SUMMARY:JUMU'AH 3- بالعربية
DESCRIPTION:
URL:https://centrebadr.net/event/jumuah-2-%d8%a8%d8%a7%d9%84%d8%b9%d8%b1%d8%a8%d9%8a%d8%a9/2028-04-28/
LOCATION:Salle Mirage\, 8604 boulevard Langelier\, Saint-Léonard\, QC\, H1P 2Y7\, Canada
CATEGORIES:eventsList
ATTACH;FMTTYPE=image/jpeg:https://centrebadr.net/wp-content/uploads/2024/11/Panorama-salle-rouge-scaled.jpg
ORGANIZER;CN="Centre Islamique Badr":MAILTO:info@centrebadr.net
END:VEVENT
BEGIN:VEVENT
DTSTART;TZID=UTC:20280505T131500
DTEND;TZID=UTC:20280510T021744
DTSTAMP:20260422T064801
CREATED:20241204T021744Z
LAST-MODIFIED:20251020T021634Z
UID:10000716-1841145300-1841537864@centrebadr.net
SUMMARY:JUMU'AH 3- بالعربية
DESCRIPTION:
URL:https://centrebadr.net/event/jumuah-2-%d8%a8%d8%a7%d9%84%d8%b9%d8%b1%d8%a8%d9%8a%d8%a9/2028-05-05/
LOCATION:Salle Mirage\, 8604 boulevard Langelier\, Saint-Léonard\, QC\, H1P 2Y7\, Canada
CATEGORIES:eventsList
ATTACH;FMTTYPE=image/jpeg:https://centrebadr.net/wp-content/uploads/2024/11/Panorama-salle-rouge-scaled.jpg
ORGANIZER;CN="Centre Islamique Badr":MAILTO:info@centrebadr.net
END:VEVENT
BEGIN:VEVENT
DTSTART;TZID=UTC:20280512T131500
DTEND;TZID=UTC:20280517T021744
DTSTAMP:20260422T064801
CREATED:20241204T021744Z
LAST-MODIFIED:20251020T021634Z
UID:10000717-1841750100-1842142664@centrebadr.net
SUMMARY:JUMU'AH 3- بالعربية
DESCRIPTION:
URL:https://centrebadr.net/event/jumuah-2-%d8%a8%d8%a7%d9%84%d8%b9%d8%b1%d8%a8%d9%8a%d8%a9/2028-05-12/
LOCATION:Salle Mirage\, 8604 boulevard Langelier\, Saint-Léonard\, QC\, H1P 2Y7\, Canada
CATEGORIES:eventsList
ATTACH;FMTTYPE=image/jpeg:https://centrebadr.net/wp-content/uploads/2024/11/Panorama-salle-rouge-scaled.jpg
ORGANIZER;CN="Centre Islamique Badr":MAILTO:info@centrebadr.net
END:VEVENT
BEGIN:VEVENT
DTSTART;TZID=UTC:20280519T131500
DTEND;TZID=UTC:20280524T021744
DTSTAMP:20260422T064801
CREATED:20241204T021744Z
LAST-MODIFIED:20251020T021634Z
UID:10000718-1842354900-1842747464@centrebadr.net
SUMMARY:JUMU'AH 3- بالعربية
DESCRIPTION:
URL:https://centrebadr.net/event/jumuah-2-%d8%a8%d8%a7%d9%84%d8%b9%d8%b1%d8%a8%d9%8a%d8%a9/2028-05-19/
LOCATION:Salle Mirage\, 8604 boulevard Langelier\, Saint-Léonard\, QC\, H1P 2Y7\, Canada
CATEGORIES:eventsList
ATTACH;FMTTYPE=image/jpeg:https://centrebadr.net/wp-content/uploads/2024/11/Panorama-salle-rouge-scaled.jpg
ORGANIZER;CN="Centre Islamique Badr":MAILTO:info@centrebadr.net
END:VEVENT
BEGIN:VEVENT
DTSTART;TZID=UTC:20280526T131500
DTEND;TZID=UTC:20280531T021744
DTSTAMP:20260422T064801
CREATED:20241204T021744Z
LAST-MODIFIED:20251020T021634Z
UID:10000719-1842959700-1843352264@centrebadr.net
SUMMARY:JUMU'AH 3- بالعربية
DESCRIPTION:
URL:https://centrebadr.net/event/jumuah-2-%d8%a8%d8%a7%d9%84%d8%b9%d8%b1%d8%a8%d9%8a%d8%a9/2028-05-26/
LOCATION:Salle Mirage\, 8604 boulevard Langelier\, Saint-Léonard\, QC\, H1P 2Y7\, Canada
CATEGORIES:eventsList
ATTACH;FMTTYPE=image/jpeg:https://centrebadr.net/wp-content/uploads/2024/11/Panorama-salle-rouge-scaled.jpg
ORGANIZER;CN="Centre Islamique Badr":MAILTO:info@centrebadr.net
END:VEVENT
BEGIN:VEVENT
DTSTART;TZID=UTC:20280602T131500
DTEND;TZID=UTC:20280607T021744
DTSTAMP:20260422T064801
CREATED:20241204T021744Z
LAST-MODIFIED:20251020T021634Z
UID:10000720-1843564500-1843957064@centrebadr.net
SUMMARY:JUMU'AH 3- بالعربية
DESCRIPTION:
URL:https://centrebadr.net/event/jumuah-2-%d8%a8%d8%a7%d9%84%d8%b9%d8%b1%d8%a8%d9%8a%d8%a9/2028-06-02/
LOCATION:Salle Mirage\, 8604 boulevard Langelier\, Saint-Léonard\, QC\, H1P 2Y7\, Canada
CATEGORIES:eventsList
ATTACH;FMTTYPE=image/jpeg:https://centrebadr.net/wp-content/uploads/2024/11/Panorama-salle-rouge-scaled.jpg
ORGANIZER;CN="Centre Islamique Badr":MAILTO:info@centrebadr.net
END:VEVENT
BEGIN:VEVENT
DTSTART;TZID=UTC:20280609T131500
DTEND;TZID=UTC:20280614T021744
DTSTAMP:20260422T064801
CREATED:20241204T021744Z
LAST-MODIFIED:20251020T021634Z
UID:10000721-1844169300-1844561864@centrebadr.net
SUMMARY:JUMU'AH 3- بالعربية
DESCRIPTION:
URL:https://centrebadr.net/event/jumuah-2-%d8%a8%d8%a7%d9%84%d8%b9%d8%b1%d8%a8%d9%8a%d8%a9/2028-06-09/
LOCATION:Salle Mirage\, 8604 boulevard Langelier\, Saint-Léonard\, QC\, H1P 2Y7\, Canada
CATEGORIES:eventsList
ATTACH;FMTTYPE=image/jpeg:https://centrebadr.net/wp-content/uploads/2024/11/Panorama-salle-rouge-scaled.jpg
ORGANIZER;CN="Centre Islamique Badr":MAILTO:info@centrebadr.net
END:VEVENT
BEGIN:VEVENT
DTSTART;TZID=UTC:20280616T131500
DTEND;TZID=UTC:20280621T021744
DTSTAMP:20260422T064802
CREATED:20241204T021744Z
LAST-MODIFIED:20251020T021634Z
UID:10000722-1844774100-1845166664@centrebadr.net
SUMMARY:JUMU'AH 3- بالعربية
DESCRIPTION:
URL:https://centrebadr.net/event/jumuah-2-%d8%a8%d8%a7%d9%84%d8%b9%d8%b1%d8%a8%d9%8a%d8%a9/2028-06-16/
LOCATION:Salle Mirage\, 8604 boulevard Langelier\, Saint-Léonard\, QC\, H1P 2Y7\, Canada
CATEGORIES:eventsList
ATTACH;FMTTYPE=image/jpeg:https://centrebadr.net/wp-content/uploads/2024/11/Panorama-salle-rouge-scaled.jpg
ORGANIZER;CN="Centre Islamique Badr":MAILTO:info@centrebadr.net
END:VEVENT
BEGIN:VEVENT
DTSTART;TZID=UTC:20280623T131500
DTEND;TZID=UTC:20280628T021744
DTSTAMP:20260422T064802
CREATED:20241204T021744Z
LAST-MODIFIED:20251020T021634Z
UID:10000723-1845378900-1845771464@centrebadr.net
SUMMARY:JUMU'AH 3- بالعربية
DESCRIPTION:
URL:https://centrebadr.net/event/jumuah-2-%d8%a8%d8%a7%d9%84%d8%b9%d8%b1%d8%a8%d9%8a%d8%a9/2028-06-23/
LOCATION:Salle Mirage\, 8604 boulevard Langelier\, Saint-Léonard\, QC\, H1P 2Y7\, Canada
CATEGORIES:eventsList
ATTACH;FMTTYPE=image/jpeg:https://centrebadr.net/wp-content/uploads/2024/11/Panorama-salle-rouge-scaled.jpg
ORGANIZER;CN="Centre Islamique Badr":MAILTO:info@centrebadr.net
END:VEVENT
END:VCALENDAR